BEGIN:VCALENDAR
PRODID:NingEventWidget-v1
VERSION:2.0
METHOD:PUBLISH
BEGIN:VEVENT
UID:3186561:Event:55199
DTSTAMP:20210313T174100Z
SUMMARY:Radio:  \"The Jimmy Sengenberger Show\"
DESCRIPTION:Be sure to tune in for the Jimmy Sengenberger radio show.\
 n\n\"...a very special edition of \"Music with Krump\" featuring local
  Denver singer-musician-songwriterÂ Megan Burtt and whose new album, \
 "The Bargain,\" is out this week!We'll preview the album, plus Megan w
 ill perform LIVE on News/Talk 710KNUS, including a few jams with yours
  truly on the harmonica. PLUS Jason Russell of The Washington Examiner
  and Kipp Jones of Breitbart will join me to talk Bobby Jindal and Ted
  Cruz, respectively, and more!\"\n\nhttps://www.facebook.com/events/58
 3932501745791/\n\n\"The Jimmy Sengenberger Show\" program started on 7
 10 KNUS radio Saturday, September 21, 2013, 5 p.m. to 8 p.m.\n\nÂ \nJi
 mmy Sengenberger had the \"Seng Center\" program on the Regis Universi
 ty campus until he graduated a couple of years ago.Â  He has filled in
  for a variety of radio hosts all over the metro area and Greeley.\nÂ 
 \nDonâ€™t miss it!Â  Tune in to 710 KNUS or online at http://www.710kn
 us.com/ from 5 to 8 PM. CallÂ  303-696-1071.\nÂ \nThe podcasts for the
  program can be found on the 710 KNUS podcasts page.Â  Look for Jimmy 
 Sengenberger:\n\nhttp://www.710knus.com/podcastlineup.aspx\n\n\nÂ \n Â
  \n\n\nFor more information visit http://arapahoeteaparty.ning.com/eve
 nts/radio-the-jimmy-sengenberger-show-161
DTSTART:20150822T230000Z
DTEND:20150823T020000Z
CATEGORIES:"radio show"
LOCATION:\"Radio  AM 710 KNUS\"
WEBSITE:http://www.710knus.com/
URL:http://www.710knus.com/
CONTACT:
ORGANIZER:Jimmy Sengenberger [posted by W. Branstetter]
ATTACH;FMTTYPE="image/jpeg":
ATTENDEE;ROLE=REQ-PARTICIPANT;PARTSTAT=ACCEPTED;RSVP=TRUE;CN="W. Brans
 tetter":http://arapahoeteaparty.ning.com/profile/WBranstetter
END:VEVENT
END:VCALENDAR
