BEGIN:VCALENDAR
PRODID:NingEventWidget-v1
VERSION:2.0
METHOD:PUBLISH
BEGIN:VEVENT
UID:3186561:Event:54686
DTSTAMP:20210313T175634Z
SUMMARY:Radio:  \"The Jimmy Sengenberger Show\"
DESCRIPTION:Be sure to tune in for the Jimmy Sengenberger radio show.\
 n\nNote that this is the Western Conservative Summit weekend in Denver
 , so Jimmy is bound to have great guests and material no matter whethe
 r the show is live or recorded.  Tune in for commentary about the spe
 akers who are presidential candidates.\n\n\"The Jimmy Sengenberger Sho
 w\" program started on 710 KNUS radio Saturday, September 21, 2013, 5 
 p.m. to 8 p.m.\n\n \nJimmy Sengenberger had the \"Seng Center\" progr
 am on the Regis University campus until he graduated a couple of years
  ago.  He has filled in for a variety of radio hosts all over the met
 ro area and Greeley.\n \nDon’t miss it!  Tune in to 710 KNUS or on
 line at http://www.710knus.com/ from 5 to 8 PM. Call  303-696-1071.\n
  \nThe podcasts for the program can be found on the 710 KNUS podcasts
  page.  Look for Jimmy Sengenberger:\n\nhttp://www.710knus.com/podcas
 tlineup.aspx\n\n\n \n  \n\n\nFor more information visit http://arapa
 hoeteaparty.ning.com/events/radio-the-jimmy-sengenberger-show-150
DTSTART:20150627T230000Z
DTEND:20150628T020000Z
CATEGORIES:"radio show"
LOCATION:\"Radio  AM 710 KNUS\"
WEBSITE:http://www.710knus.com/
URL:http://www.710knus.com/
CONTACT:
ORGANIZER:Jimmy Sengenberger [posted by W. Branstetter]
ATTACH;FMTTYPE="image/jpeg":
ATTENDEE;ROLE=REQ-PARTICIPANT;PARTSTAT=ACCEPTED;RSVP=TRUE;CN="W. Brans
 tetter":http://arapahoeteaparty.ning.com/profile/WBranstetter
END:VEVENT
END:VCALENDAR
