BEGIN:VCALENDAR
PRODID:NingEventWidget-v1
VERSION:2.0
METHOD:PUBLISH
BEGIN:VEVENT
UID:3186561:Event:49923
DTSTAMP:20210313T175434Z
SUMMARY:Radio:  \"The Jimmy Sengenberger Show\"
DESCRIPTION:Reminder for this program:\n\nTune in and expect another b
 usy program.\n\nDuring the radio program May 10, Jimmy announced that 
 Tom Tancredo would be on at 5:30 p.m. May 17 for an interview.  Mr. T
 ancredo is not participating in any of the debates with the other cand
 idates for governor.\n\n \n\"The Jimmy Sengenberger Show\" is a new p
 rogram that started on 710 KNUS radio Saturday, September 21, 2013, 5
  p.m. to 8 p.m.\n\n \nJimmy Sengenberger had the \"Seng Center\" prog
 ram on the Regis University campus until he graduated a couple of year
 s ago.  He has filled in for a variety of radio hosts all over the me
 tro area and Greeley.\n \nDon’t miss it!  Tune in to 710 KNUS or o
 nline at http://www.710knus.com/ from 5 to 8 PM. Call  303-696-1071.\
 n \nTune in and find out what the young man might have to say.  It i
 s the weekend so there may be Friday news you have not heard yet.\n \
 nThe podcasts for the program can be found on the 710 KNUS podcasts pa
 ge.  Look for Jimmy Sengenberger:\n\nhttp://www.710knus.com/podcastli
 neup.aspx\n\n\n \n  \n\n\nFor more information visit http://arapahoe
 teaparty.ning.com/events/radio-the-jimmy-sengenberger-show-11
DTSTART:20140517T230000Z
DTEND:20140518T020000Z
CATEGORIES:"radio show"
LOCATION:\"Radio  AM 710 KNUS\"
WEBSITE:http://www.710knus.com/
URL:http://www.710knus.com/
CONTACT:
ORGANIZER:[posted by W. Branstetter]
ATTACH;FMTTYPE="image/jpeg":
ATTENDEE;ROLE=REQ-PARTICIPANT;PARTSTAT=ACCEPTED;RSVP=TRUE;CN="W. Brans
 tetter":http://arapahoeteaparty.ning.com/profile/WBranstetter
END:VEVENT
END:VCALENDAR
