BEGIN:VCALENDAR
PRODID:NingEventWidget-v1
VERSION:2.0
METHOD:PUBLISH
BEGIN:VEVENT
UID:3186561:Event:51965
DTSTAMP:20210313T183121Z
SUMMARY:Radio Show:  Joe America reporting Castle Rock Meeting and mor
 e
DESCRIPTION:Dan America posted the following message on the Arapahoe T
 ea Party Facebook page:  \"Just left the Castle Rock City Council meet
 ing..... What a mess... Listen into The Joe America show Wednesday m
 orning at 7am to get the latest on the election mess, with invited gue
 sts Ken Clark from Freedom 560, Marilyn Marks, and CD4 Libertarian 
 Candidate Jess Loban. Www.VelocityRadio.FM or on your smartphone or
  tablet by using the TuneIn Radio app and search for VelocityRadio.FM\
 "\n\nOn-line for Joe America radio:\nhttp://www.velocityradio.fm/\nWed
 nesday, September 3, 2014 at 7:00 a.m. \n**********************\n\nNot
 e that one of the guests regarding Castle Rock's meeting will be Maryl
 yn Marks and she will be on the \"Rush to Reason\" radio show with Joh
 n Rush on KLZ 560 at 2:00 p.m.\nhttp://www.560thesource.com/\n\n\nFor 
 more information visit http://arapahoeteaparty.ning.com/events/radio-s
 how-joe-america-reporting-castle-rock-meeting-and-more
DTSTART:20140903T130000Z
DTEND:20140903T140000Z
CATEGORIES:"radio show"
LOCATION:on-line or TuneIn  app
WEBSITE:http://www.velocityradio.fm/
URL:http://www.velocityradio.fm/
CONTACT:
ORGANIZER:Dan America [posted by W. Branstetter]
ATTACH;FMTTYPE="image/jpeg":
ATTENDEE;ROLE=REQ-PARTICIPANT;PARTSTAT=ACCEPTED;RSVP=TRUE;CN="W. Brans
 tetter":http://arapahoeteaparty.ning.com/profile/WBranstetter
END:VEVENT
END:VCALENDAR
