BEGIN:VCALENDAR
PRODID:NingEventWidget-v1
VERSION:2.0
METHOD:PUBLISH
BEGIN:VEVENT
UID:3186561:Event:57075
DTSTAMP:20210313T175258Z
SUMMARY:Radio:  Rob Natelson on \"Thinker Thursday\" on Kelley & Kafer
  on 710 KNUS
DESCRIPTION:Rob Natelson will be on the Kelley & Kafer radio show for 
 \"Thinker Thursday\" hour on www.710knus.com. \n Rob Natelson is wit
 h the Independence Institute in Denver and writes on Constitution and 
 legal issues at:\n\nhttps://www.i2i.org/\n\nDon’t miss it!  Tune in
  to 710 KNUS or online at http://www.710knus.com/ for Kelley & Kafer 
 from 1 to 4 p.m. Call  303-696-1071.\n \nNOTE:  The Kelley & Kafer 
 program moves to the new time slot of 4 to 7 p.m. starting April 4, 20
 16.\n\nThe podcasts for the program can be found on the 710 KNUS podca
 sts page.  \n\nhttp://www.710knus.com/podcastlineup.aspx\n\n\n \n  
 \n\n\nFor more information visit http://arapahoeteaparty.ning.com/even
 ts/radio-rob-natelson-on-thinker-thursday-on-kelley-kafer-on-710-knu
DTSTART:20160331T150000Z
DTEND:20160331T170000Z
CATEGORIES:"radio show"
LOCATION:\"Radio  AM 710 KNUS\"
WEBSITE:http://www.710knus.com/
URL:http://www.710knus.com/
CONTACT:
ORGANIZER:[posted by W. Branstetter]
ATTACH;FMTTYPE="image/jpeg":
ATTENDEE;ROLE=REQ-PARTICIPANT;PARTSTAT=ACCEPTED;RSVP=TRUE;CN="W. Brans
 tetter":http://arapahoeteaparty.ning.com/profile/WBranstetter
END:VEVENT
END:VCALENDAR
