BEGIN:VCALENDAR
PRODID:NingEventWidget-v1
VERSION:2.0
METHOD:PUBLISH
BEGIN:VEVENT
UID:3186561:Event:55686
DTSTAMP:20210313T180943Z
SUMMARY:Radio:  Rob Natelson on Federalist Papers and more on Stacy Pe
 tty Show from Greeley 1310 KFKA
DESCRIPTION:Rob Natelson, specializing in Constitutional law with Inde
 pendence Institute, will be on the Stacy Petty Show from Greeley 1310 
 KFKA for two hours 9:00-11:00 a.m. MT.  Stacy plans to ask about Fede
 ralist papers and more.  Listen on-line via:\n\nhttp://1310kfka.com/\
 n\nCheck the Constitution tab for Rob Natelson's articles at:\n\nhttp:
 //www.i2i.org/\n\n\n\nFor more information visit http://arapahoeteapar
 ty.ning.com/events/radio-rob-natelson-on-federalist-papers-and-more-on
 -stacy-petty-s
DTSTART:20151210T160000Z
DTEND:20151210T180000Z
CATEGORIES:radio
LOCATION:\"Greeley 1310 KFKA\"
WEBSITE:http://1310kfka.com/
URL:http://1310kfka.com/
CONTACT:
ORGANIZER:Stacy Petty [posted by W. Branstetter]
ATTACH;FMTTYPE="image/jpeg":
ATTENDEE;ROLE=REQ-PARTICIPANT;PARTSTAT=ACCEPTED;RSVP=TRUE;CN="W. Brans
 tetter":http://arapahoeteaparty.ning.com/profile/WBranstetter
END:VEVENT
END:VCALENDAR
