BEGIN:VCALENDAR
PRODID:NingEventWidget-v1
VERSION:2.0
METHOD:PUBLISH
BEGIN:VEVENT
UID:3186561:Event:59003
DTSTAMP:20210313T173452Z
SUMMARY:Radio:  Randy Corporon subs for \"Dan Caplis show\"
DESCRIPTION:Tune in for Randy Corporon substituting on the \"Dan Capli
 s\" radio show.  \n\nIf you miss a program, find podcasts on 710 KNUS
  web site for all of the interviews of candidates or specialists on to
 pics.\n\nShow time is 9:00 to 11:00 a.m. week days on 710 KNUS AM radi
 o.\n\n \n\nDon’t miss it!  Tune in to 710 KNUS or online at http:/
 /www.710knus.com/   Call  303-696-1071.\n \nThe podcasts for the p
 rogram can be found on the 710 KNUS podcasts page (Dan Caplis show).\n
 \nhttp://www.710knus.com/podcastlineup.aspx\n\n\n \n  \n\n\nFor more
  information visit http://arapahoeteaparty.ning.com/events/radio-randy
 -corporon-subs-for-dan-caplis-show
DTSTART:20160729T150000Z
DTEND:20160729T170000Z
CATEGORIES:"radio show"
LOCATION:\"Radio  AM 710 KNUS\"
WEBSITE:http://www.710knus.com/
URL:http://www.710knus.com/
CONTACT:
ORGANIZER:Randy Corporon [posted by W. Branstetter]
ATTACH;FMTTYPE="image/jpeg":
ATTENDEE;ROLE=REQ-PARTICIPANT;PARTSTAT=ACCEPTED;RSVP=TRUE;CN="W. Brans
 tetter":http://arapahoeteaparty.ning.com/profile/WBranstetter
END:VEVENT
END:VCALENDAR
