BEGIN:VCALENDAR
PRODID:NingEventWidget-v1
VERSION:2.0
METHOD:PUBLISH
BEGIN:VEVENT
UID:3186561:Event:64170
DTSTAMP:20210313T172921Z
SUMMARY:Radio:  Randy Corporon in for Peter Boyles on 710 KNUS
DESCRIPTION:Randy Corporon will be in for the Peter Boyles radio show 
 on 710 KNUS on Thursday and Friday morning 5:00 to 9:00 a.m.   \r\n\
 r\nMany topics including:\r\n\r\n\r\nAlso find out when Randy will gue
 st host for other shows.\r\n\r\n\r\nWhat say you? 303-696-1971\r\n\r\n
 \r\nRandy appreciates the calls.\r\n\r\nDon’t miss it!  Tune in to 
 710 KNUS or online at http://www.710knus.com/ from 6 to 9 a.m. Call  
 303-696-1071.\r\n \r\nThe podcasts for the program should be found on
  the 710 KNUS podcasts page.  \r\n\r\nhttp://www.710knus.com/podcastl
 ineup.aspx\r\n\r\n\r\n \r\n  \r\n\n\nFor more information visit http
 ://arapahoeteaparty.ning.com/events/radio-randy-corporon-in-for-peter-
 boyles-on-710-knus
DTSTART:20171221T120000Z
DTEND:20171221T160000Z
CATEGORIES:"radio show"
LOCATION:\"Radio AM 710 KNUS\"
WEBSITE:http://www.710knus.com/
URL:http://www.710knus.com/
CONTACT:
ORGANIZER:Randy Corporon [posted by W. Branstetter]
ATTACH;FMTTYPE="image/jpeg":
ATTENDEE;ROLE=REQ-PARTICIPANT;PARTSTAT=ACCEPTED;RSVP=TRUE;CN="W. Brans
 tetter":http://arapahoeteaparty.ning.com/profile/WBranstetter
END:VEVENT
END:VCALENDAR
