BEGIN:VCALENDAR
PRODID:NingEventWidget-v1
VERSION:2.0
METHOD:PUBLISH
BEGIN:VEVENT
UID:3186561:Event:55331
DTSTAMP:20210313T181716Z
SUMMARY:Radio:  Randy Corporon in for hosting \"Craig Silverman Show\"
DESCRIPTION:Be sure to tune in for the Craig Silverman radio show to h
 ear Randy Corporon guest host the show on 710 KNUS radio Saturday, Oct
 ober 10, 2015, 9:00 a.m. to noon.  This is before the next Arapahoe T
 ea Party meeting so there might be some mention of it or other things 
 Randy has to enlighten us.\n\nDon’t miss it!  Tune in to 710 KNUS o
 r online at http://www.710knus.com/ from 9:00 a.m. to noon. Call  303
 -696-1071.\n \nThe podcasts for the program can be found on the 710 K
 NUS podcasts page.  \n\nhttp://www.710knus.com/podcastlineup.aspx\n\n
 \n \n  \n\n\nFor more information visit http://arapahoeteaparty.ning
 .com/events/radio-randy-corporon-in-for-hosting-craig-silverman-show
DTSTART:20151010T150000Z
DTEND:20151010T180000Z
CATEGORIES:"radio show"
LOCATION:\"Radio  AM 710 KNUS\"
WEBSITE:http://www.710knus.com/
URL:http://www.710knus.com/
CONTACT:
ORGANIZER:Randy Corporon [posted by W. Branstetter]
ATTACH;FMTTYPE="image/jpeg":
ATTENDEE;ROLE=REQ-PARTICIPANT;PARTSTAT=ACCEPTED;RSVP=TRUE;CN="W. Brans
 tetter":http://arapahoeteaparty.ning.com/profile/WBranstetter
END:VEVENT
END:VCALENDAR
