BEGIN:VCALENDAR
PRODID:NingEventWidget-v1
VERSION:2.0
METHOD:PUBLISH
BEGIN:VEVENT
UID:3186561:Event:58866
DTSTAMP:20210313T171715Z
SUMMARY:Radio:  Randy Corporon hosts \"Peter Boyles Show\"
DESCRIPTION:Be sure to tune in for the Randy substituting for Peter Bo
 yles' radio show Monday, 5 a.m. to 9 a.m. for Memorial Day (holiday) p
 rogram.\n\n \nDon’t miss it!  Tune in to 710 KNUS or online at htt
 p://www.710knus.com/ from 5 to 9 a.m. Call  303-696-1071.\n \nThe po
 dcasts for the program can be found on the 710 KNUS podcasts page.  \
 n\nhttp://www.710knus.com/podcastlineup.aspx\n\n\n \n  \n\n\nFor mor
 e information visit http://arapahoeteaparty.ning.com/events/radio-rand
 y-corporon-hosts-peter-boyles-show-6
DTSTART:20160530T110000Z
DTEND:20160530T150000Z
CATEGORIES:"radio show"
LOCATION:\"Radio  AM 710 KNUS\"
WEBSITE:http://www.710knus.com/
URL:http://www.710knus.com/
CONTACT:
ORGANIZER:Randy Corporon [posted by W. Branstetter]
ATTACH;FMTTYPE="image/jpeg":
ATTENDEE;ROLE=REQ-PARTICIPANT;PARTSTAT=ACCEPTED;RSVP=TRUE;CN="W. Brans
 tetter":http://arapahoeteaparty.ning.com/profile/WBranstetter
END:VEVENT
END:VCALENDAR
