BEGIN:VCALENDAR
PRODID:NingEventWidget-v1
VERSION:2.0
METHOD:PUBLISH
BEGIN:VEVENT
UID:3186561:Event:56092
DTSTAMP:20210313T180312Z
SUMMARY:Radio:  Randy Corporon hosts \"Peter Boyles Show\"
DESCRIPTION:Be sure to tune in for the Randy substituting for Peter Bo
 yles' radio show Monday, 5 a.m. to 9 a.m.\n\n \nDon’t miss it!  Tu
 ne in to 710 KNUS or online at http://www.710knus.com/ from 5 to 9 a.m
 . Call  303-696-1071.\n \nThe podcasts for the program can be found 
 on the 710 KNUS podcasts page.  \n\nhttp://www.710knus.com/podcastlin
 eup.aspx\n\n\n \n  \n\n\nFor more information visit http://arapahoet
 eaparty.ning.com/events/radio-randy-corporon-hosts-peter-boyles-show-5
DTSTART:20160215T120000Z
DTEND:20160215T160000Z
CATEGORIES:"radio show"
LOCATION:\"Radio  AM 710 KNUS\"
WEBSITE:http://www.710knus.com/
URL:http://www.710knus.com/
CONTACT:
ORGANIZER:Randy Corporon [posted by W. Branstetter]
ATTACH;FMTTYPE="image/jpeg":
ATTENDEE;ROLE=REQ-PARTICIPANT;PARTSTAT=ACCEPTED;RSVP=TRUE;CN="W. Brans
 tetter":http://arapahoeteaparty.ning.com/profile/WBranstetter
END:VEVENT
END:VCALENDAR
