BEGIN:VCALENDAR
PRODID:NingEventWidget-v1
VERSION:2.0
METHOD:PUBLISH
BEGIN:VEVENT
UID:3186561:Event:64627
DTSTAMP:20210313T184129Z
SUMMARY:Radio:  Randy Corporon hosts for Chuck & Julie on 710 KNUS
DESCRIPTION:Be sure to tune in for Randy Corporon guest hosting for 
 the Chuck & Julie radio show on 710 KNUS on Tuesday through Friday 1:0
 0 to 4:00 p.m., March 27-30.  \r\n\r\nMany topics including:  ??\r\
 n\r\nAlso find out when Randy will guest host for other shows.\r\n\r\n
 \r\nWhat say you? 303-696-1971\r\nPodcasts at https://omny.fm/shows/w
 ake-up-with-randy-corporon\r\n\r\nor the Chuck & Julie 710KNUS page\r\
 n\r\nRandy appreciates the calls.\r\n\r\nDon’t miss it!  Tune in to
  710 KNUS or online at http://www.710knus.com/ . Call  303-696-1071.\
 r\n \r\nThe podcasts for the program should be found on the 710 KNUS 
 podcasts page.  \r\n\r\nhttp://www.710knus.com/podcastlineup.aspx\r\n
 \r\n\r\n \r\n  \r\n\n\nFor more information visit http://arapahoetea
 party.ning.com/events/radio-randy-corporon-hosts-for-chuck-julie-on-71
 0-knus
DTSTART:20180327T190000Z
DTEND:20180327T220000Z
CATEGORIES:"radio show"
LOCATION:\"Radio AM 710 KNUS\"
WEBSITE:http://www.710knus.com/
URL:http://www.710knus.com/
CONTACT:
ORGANIZER:Randy Corporon [posted by W. Branstetter]
ATTACH;FMTTYPE="image/jpeg":
ATTENDEE;ROLE=REQ-PARTICIPANT;PARTSTAT=ACCEPTED;RSVP=TRUE;CN="W. Brans
 tetter":http://arapahoeteaparty.ning.com/profile/WBranstetter
END:VEVENT
END:VCALENDAR
