BEGIN:VCALENDAR
PRODID:NingEventWidget-v1
VERSION:2.0
METHOD:PUBLISH
BEGIN:VEVENT
UID:3186561:Event:59762
DTSTAMP:20210313T193425Z
SUMMARY:Radio:  Randy Corporon hosting \"Peter Boyles Show\"
DESCRIPTION:Be sure to tune in for the \"Peter Boyles Show\" on 710 KN
 US radio for Randy Corporon guest hosting December 26 to 28, 2016, 5:0
 0 a.m. to 9:00 a.m.  So much to talk about!\n\nIf you miss a program,
  find podcasts on 710 KNUS web site.\n\n\n \nDon’t miss it!  Tune 
 in to 710 KNUS or online at http://www.710knus.com/ from 5:00-9:00 a.m
 .\nCall  303-696-1071.\n \nhttp://www.710knus.com/podcastlineup.aspx
 \n\n\n \n  \n\n\nFor more information visit http://arapahoeteaparty.
 ning.com/events/radio-randy-corporon-hosting-peter-boyles-show
DTSTART:20161226T120000Z
DTEND:20161226T160000Z
CATEGORIES:"radio show"
LOCATION:\"Radio  AM 710 KNUS\"
WEBSITE:http://www.710knus.com/
URL:http://www.710knus.com/
CONTACT:
ORGANIZER:Randy Corporon [posted by W. Branstetter]
ATTACH;FMTTYPE="image/jpeg":
ATTENDEE;ROLE=REQ-PARTICIPANT;PARTSTAT=ACCEPTED;RSVP=TRUE;CN="W. Brans
 tetter":http://arapahoeteaparty.ning.com/profile/WBranstetter
END:VEVENT
END:VCALENDAR
