BEGIN:VCALENDAR
PRODID:NingEventWidget-v1
VERSION:2.0
METHOD:PUBLISH
BEGIN:VEVENT
UID:3186561:Event:57163
DTSTAMP:20210313T181832Z
SUMMARY:Radio:  Randy Corporon guest hosting \"The Dan Caplis Show\"
DESCRIPTION:Laura Carno and Ken Buck scheduled for Tuesday.\n\nMessage
  from Randy Corporon:\n\nA break from lawyering and some more time to 
 talk with you. Back on the radio Monday and Tuesday for Dan Caplis
 , 9-11 AM on www.710knus.com.   Colorado's R national delegates co
 uld be critical in Cleveland in July. I'm running. Going bound or unbo
 und? What makes the most sense? (I've chosen to be bound to Ted Cruz, 
 but also intend to do everything in my power if I'm there to keep the 
 shenanigans at bay.)   Plus, some chat with old friends like Trevor L
 oudon and Daniel Horowitz from Conservative Review (www.conservativere
 view.com). Is wifegate and its ilk killing the Republican campaign?  
  What do you think? Call us tomorrow, 303-696-1971.\n \nDon’t mis
 s it!  Tune in to 710 KNUS or online at http://www.710knus.com/ from 
 9 to 11 a.m. Call  303-696-1071.\n \nThe podcasts for the program ca
 n be found on the 710 KNUS podcasts page.  \n\nhttp://www.710knus.com
 /podcastlineup.aspx\n\n\n \n  \n\n\nFor more information visit http:
 //arapahoeteaparty.ning.com/events/radio-randy-corporon-guest-hosting-
 the-dan-caplis-show-1
DTSTART:20160329T150000Z
DTEND:20160329T170000Z
CATEGORIES:"radio show"
LOCATION:\"Radio  AM 710 KNUS\"
WEBSITE:http://www.710knus.com/
URL:http://www.710knus.com/
CONTACT:
ORGANIZER:Randy Corporon [posted by W. Branstetter]
ATTACH;FMTTYPE="image/jpeg":
ATTENDEE;ROLE=REQ-PARTICIPANT;PARTSTAT=ACCEPTED;RSVP=TRUE;CN="W. Brans
 tetter":http://arapahoeteaparty.ning.com/profile/WBranstetter
END:VEVENT
END:VCALENDAR
