BEGIN:VCALENDAR
PRODID:NingEventWidget-v1
VERSION:2.0
METHOD:PUBLISH
BEGIN:VEVENT
UID:3186561:Event:60766
DTSTAMP:20210313T184212Z
SUMMARY:Radio:  Randy Corporon guest host on \"The Jimmy Sengenberger 
 Show\"
DESCRIPTION:Randy Corporon will be the guest host for Jimmy's show--be
  sure to tune in for the Jimmy Sengenberger radio show.\n\n\n\"The Jim
 my Sengenberger Show\" program started on 710 KNUS radio Saturday, Sep
 tember 21, 2013, 5 p.m. to 8 p.m.\n\n \nJimmy Sengenberger had the \"
 Seng Center\" program on the Regis University campus until he graduate
 d a couple of years ago.  He has filled in for a variety of radio hos
 ts all over the metro area and Greeley.\n \nDon’t miss it!  Tune i
 n to 710 KNUS or online at http://www.710knus.com/ from 5 to 8 PM. Cal
 l  303-696-1071.\n \nThe podcasts for the program can be found on th
 e 710 KNUS podcasts page.  Look for Jimmy Sengenberger:\n\nhttp://www
 .710knus.com/podcastlineup.aspx\n\n\n \n  \n\n\nFor more information
  visit http://arapahoeteaparty.ning.com/events/radio-randy-corporon-gu
 est-host-on-the-jimmy-sengenberger-show
DTSTART:20170624T230000Z
DTEND:20170625T020000Z
CATEGORIES:"radio show"
LOCATION:\"Radio  AM 710 KNUS\"
WEBSITE:http://www.710knus.com/
URL:http://www.710knus.com/
CONTACT:
ORGANIZER:Jimmy Sengenberger [posted by W. Branstetter]
ATTACH;FMTTYPE="image/jpeg":
ATTENDEE;ROLE=REQ-PARTICIPANT;PARTSTAT=ACCEPTED;RSVP=TRUE;CN="W. Brans
 tetter":http://arapahoeteaparty.ning.com/profile/WBranstetter
END:VEVENT
END:VCALENDAR
