BEGIN:VCALENDAR
PRODID:NingEventWidget-v1
VERSION:2.0
METHOD:PUBLISH
BEGIN:VEVENT
UID:3186561:Event:64693
DTSTAMP:20210313T173556Z
SUMMARY:Radio:  Randy Corporon guest host on 710 KNUS at 4-7 p.m.
DESCRIPTION:Be sure to tune in for Randy Corporon guest hosting late a
 fternoon show (4-7 p.m.) today on 710 KNUS.  Catch him for regular ti
 me Saturday mornings 5-9 a.m.\r\n\r\nMany topics including:  ??\r\n\r
 \nAlso find out when Randy will guest host for other shows.\r\n\r\n\r\
 nWhat say you? 303-696-1971\r\nPodcasts at https://omny.fm/shows/wake
 -up-with-randy-corporon\r\n\r\n\r\n\r\nRandy appreciates the calls.\r\
 n\r\nDon’t miss it!  Tune in to 710 KNUS or online at http://www.71
 0knus.com/ from 6 to 9 a.m. Call  303-696-1071.\r\n \r\nThe podcasts
  for the program should be found on the 710 KNUS podcasts page.  \r\n
 \r\nhttp://www.710knus.com/podcastlineup.aspx\r\n\r\n\r\n \r\n  \r\n
 \n\nFor more information visit http://arapahoeteaparty.ning.com/events
 /radio-randy-corporon-guest-host-on-710-knus-at-4-7-p-m-3
DTSTART:20180221T230000Z
DTEND:20180222T020000Z
CATEGORIES:"radio show"
LOCATION:\"Radio AM 710 KNUS\"
WEBSITE:http://www.710knus.com/
URL:http://www.710knus.com/
CONTACT:
ORGANIZER:Randy Corporon [posted by W. Branstetter]
ATTACH;FMTTYPE="image/jpeg":
ATTENDEE;ROLE=REQ-PARTICIPANT;PARTSTAT=ACCEPTED;RSVP=TRUE;CN="W. Brans
 tetter":http://arapahoeteaparty.ning.com/profile/WBranstetter
END:VEVENT
END:VCALENDAR
