BEGIN:VCALENDAR
PRODID:NingEventWidget-v1
VERSION:2.0
METHOD:PUBLISH
BEGIN:VEVENT
UID:3186561:Event:62375
DTSTAMP:20210313T184151Z
SUMMARY:Radio:  Randy Corporon guest host for \"Peter Boyles Show\" on
  710 KNUS
DESCRIPTION:Randy Corporon will be the guest host for Peter Boyles' ra
 dio show on 710 KNUS on Tuesday, August 8, 2017, from 5:00 a.m. to 9:0
 0 a.m.\r\n\r\nRandy usually posts the program topics and guests on the
  Arapahoe Tea Party Facebook page.\r\n\r\nDon’t miss it!  Tune in t
 o 710 KNUS or online at http://www.710knus.com/ from 5 to 9 a.m. Stud
 io line:  303-696-1071.\r\n \r\nThe podcasts for the program can be 
 found on the 710 KNUS podcasts page.  \r\n\r\nhttp://710knus.com/cont
 ent/all/local-podcasts\r\n\r\n\r\n \r\n  \r\n\n\nFor more informatio
 n visit http://arapahoeteaparty.ning.com/events/radio-randy-corporon-g
 uest-host-for-peter-boyles-show-on-710-kn-3
DTSTART:20170809T110000Z
DTEND:20170809T150000Z
CATEGORIES:"radio show"
LOCATION:\"Radio AM 710 KNUS\"
WEBSITE:http://www.710knus.com/
URL:http://www.710knus.com/
CONTACT:
ORGANIZER:Randy Corporon [posted by W. Branstetter]
ATTACH;FMTTYPE="image/jpeg":
ATTENDEE;ROLE=REQ-PARTICIPANT;PARTSTAT=ACCEPTED;RSVP=TRUE;CN="W. Brans
 tetter":http://arapahoeteaparty.ning.com/profile/WBranstetter
END:VEVENT
END:VCALENDAR
