BEGIN:VCALENDAR
PRODID:NingEventWidget-v1
VERSION:2.0
METHOD:PUBLISH
BEGIN:VEVENT
UID:3186561:Event:61265
DTSTAMP:20210313T180003Z
SUMMARY:Radio:  Randy Corporon guest host for \"Peter Boyles Show\" on
  710 KNUS
DESCRIPTION:Randy Corporon will be the guest host for Peter Boyles' ra
 dio show on 710 KNUS on Monday, July 3, and Tuesday, July 4, 2017, fro
 m 5:00 a.m. to 9:00 a.m.\n\nRandy usually posts the program topics and
  guests on the Arapahoe Tea Party Facebook page.\n\nDon’t miss it! 
  Tune in to 710 KNUS or online at http://www.710knus.com/ from 5 to 9
  a.m. Studio line:  303-696-1071.\n \nThe podcasts for the program c
 an be found on the 710 KNUS podcasts page.  \n\nhttp://710knus.com/co
 ntent/all/local-podcasts\n\n\n \n  \n\n\nFor more information visit 
 http://arapahoeteaparty.ning.com/events/radio-randy-corporon-guest-hos
 t-for-peter-boyles-show-on-710-kn-1
DTSTART:20170704T110000Z
DTEND:20170704T150000Z
CATEGORIES:"radio show"
LOCATION:\"Radio  AM 710 KNUS\"
WEBSITE:http://www.710knus.com/
URL:http://www.710knus.com/
CONTACT:
ORGANIZER:Randy Corporon [posted by W. Branstetter]
ATTACH;FMTTYPE="image/jpeg":
ATTENDEE;ROLE=REQ-PARTICIPANT;PARTSTAT=ACCEPTED;RSVP=TRUE;CN="W. Brans
 tetter":http://arapahoeteaparty.ning.com/profile/WBranstetter
END:VEVENT
END:VCALENDAR
