BEGIN:VCALENDAR
PRODID:NingEventWidget-v1
VERSION:2.0
METHOD:PUBLISH
BEGIN:VEVENT
UID:3186561:Event:63362
DTSTAMP:20210313T172014Z
SUMMARY:Radio:  New \"Wake Up with Randy Corporon Show\" on 710 KNUS
DESCRIPTION:Be sure to tune in for the reconstituted \"Wake Up with Ra
 ndy Corporon\" radio show now on 710 KNUS on Saturday mornings 6:00 to
  9:00 a.m.  Could be the warm up act for the Craig Silverman show tha
 t follows at 9:00 a.m. to noon.  \r\n\r\nRandy has filled in on almo
 st all of the local programs on KNUS and is now getting a chance for a
  show.  Tune in for interesting guests and topics.  Find news about 
 Arapahoe Tea Party meetings or other events to learn about. \r\n\r\n\
 r\nRandy appreciates the calls.\r\n\r\nDon’t miss it!  Tune in to 7
 10 KNUS or online at http://www.710knus.com/ from 6 to 9 a.m. Call  3
 03-696-1071.\r\n \r\nThe podcasts for the program should be found on 
 the 710 KNUS podcasts page.  \r\n\r\nhttp://www.710knus.com/podcastli
 neup.aspx\r\n\r\n\r\n \r\n  \r\n\n\nFor more information visit http:
 //arapahoeteaparty.ning.com/events/radio-new-wake-up-with-randy-corpor
 on-show-on-710-knus-5
DTSTART:20171021T120000Z
DTEND:20171021T150000Z
CATEGORIES:"radio show"
LOCATION:\"Radio AM 710 KNUS\"
WEBSITE:http://www.710knus.com/
URL:http://www.710knus.com/
CONTACT:
ORGANIZER:Randy Corporon [posted by W. Branstetter]
ATTACH;FMTTYPE="image/jpeg":
ATTENDEE;ROLE=REQ-PARTICIPANT;PARTSTAT=ACCEPTED;RSVP=TRUE;CN="W. Brans
 tetter":http://arapahoeteaparty.ning.com/profile/WBranstetter
END:VEVENT
END:VCALENDAR
