BEGIN:VCALENDAR
PRODID:NingEventWidget-v1
VERSION:2.0
METHOD:PUBLISH
BEGIN:VEVENT
UID:3186561:Event:62966
DTSTAMP:20210313T181917Z
SUMMARY:Radio:  New \"Wake Up with Randy Corporon Show\" on 710 KNUS
DESCRIPTION:Be sure to tune in for the reconstituted \"Wake Up with Ra
 ndy Corporon\" radio show now on 710 KNUS on Saturday mornings 6:00 to
  9:00 a.m.  Could be the warm up act for the Craig Silverman show tha
 t follows at 9:00 a.m. to noon.  Kris Cook who is the vice-chair of t
 he Denver GOP will be hosting for Randy for the morning.\r\n\r\nRandy 
 has filled in on almost all of the local programs on KNUS and is now g
 etting a chance for a show.  Tune in for interesting guests and topic
 s.  Find news about Arapahoe Tea Party meetings or other events to le
 arn about. \r\n\r\n\r\nRandy appreciates the calls.\r\n\r\nDon’t mi
 ss it!  Tune in to 710 KNUS or online at http://www.710knus.com/ from
  6 to 9 a.m. Call  303-696-1071.\r\n \r\nThe podcasts for the progra
 m should be found on the 710 KNUS podcasts page.  \r\n\r\nhttp://www.
 710knus.com/podcastlineup.aspx\r\n\r\n\r\n \r\n  \r\n\n\nFor more in
 formation visit http://arapahoeteaparty.ning.com/events/radio-new-wake
 -up-with-randy-corporon-show-on-710-knus-3
DTSTART:20170930T120000Z
DTEND:20170930T150000Z
CATEGORIES:"radio show"
LOCATION:\"Radio AM 710 KNUS\"
WEBSITE:http://www.710knus.com/
URL:http://www.710knus.com/
CONTACT:
ORGANIZER:Randy Corporon [posted by W. Branstetter]
ATTACH;FMTTYPE="image/jpeg":
ATTENDEE;ROLE=REQ-PARTICIPANT;PARTSTAT=ACCEPTED;RSVP=TRUE;CN="W. Brans
 tetter":http://arapahoeteaparty.ning.com/profile/WBranstetter
END:VEVENT
END:VCALENDAR
