BEGIN:VCALENDAR
PRODID:NingEventWidget-v1
VERSION:2.0
METHOD:PUBLISH
BEGIN:VEVENT
UID:3186561:Event:62668
DTSTAMP:20210313T182619Z
SUMMARY:Radio:  New \"Wake Up with Randy Corporon Show\" on 710 KNUS
DESCRIPTION:Be sure to tune in for the reconstituted \"Wake Up with Ra
 ndy Corporon\" radio show new on 710 KNUS on Saturday mornings 6:00 to
  9:00 a.m.  Could be the warm up act for the Craig Silverman show tha
 t follows at 9:00 a.m. to noon.\r\n\r\nRandy has filled in on almost a
 ll of the local programs on KNUS and is now getting a chance for a sho
 w.  Tune in for interesting guests and topics.  Find news about Arap
 ahoe Tea Party meetings or other events to learn about. \r\n\r\nDane 
 Torbenson will be in studio for the \"have a liberal for lunch\" segme
 nt.\r\n\r\nFilmmaker John Sullivan (i.e. Gosnell movie) will be a gues
 t.\r\n\r\nSo much to talk about like the GOP central committee meeting
  scheduled for September 23.\r\n\r\nRandy appreciates the calls.\r\n\r
 \nDon’t miss it!  Tune in to 710 KNUS or online at http://www.710kn
 us.com/ from 6 to 9 a.m. Call  303-696-1071.\r\n \r\nThe podcasts fo
 r the program should be found on the 710 KNUS podcasts page.  \r\n\r\
 nhttp://www.710knus.com/podcastlineup.aspx\r\n\r\n\r\n \r\n  \r\n\n\
 nFor more information visit http://arapahoeteaparty.ning.com/events/ra
 dio-new-wake-up-with-randy-corporon-show-on-710-knus-2
DTSTART:20170923T120000Z
DTEND:20170923T150000Z
CATEGORIES:"radio show"
LOCATION:\"Radio AM 710 KNUS\"
WEBSITE:http://www.710knus.com/
URL:http://www.710knus.com/
CONTACT:
ORGANIZER:Randy Corporon [posted by W. Branstetter]
ATTACH;FMTTYPE="image/jpeg":
ATTENDEE;ROLE=REQ-PARTICIPANT;PARTSTAT=ACCEPTED;RSVP=TRUE;CN="W. Brans
 tetter":http://arapahoeteaparty.ning.com/profile/WBranstetter
END:VEVENT
END:VCALENDAR
