BEGIN:VCALENDAR
PRODID:NingEventWidget-v1
VERSION:2.0
METHOD:PUBLISH
BEGIN:VEVENT
UID:3186561:Event:64862
DTSTAMP:20210313T180334Z
SUMMARY:Radio:  New \"Wake Up with Randy Corporon Show\" on 710 KNUS
DESCRIPTION:Be sure to tune in for the \"Wake Up with Randy Corporon\"
  radio show now on 710 KNUS on Saturday mornings 6:00 to 9:00 a.m. Â C
 ould be the warm up act for the Craig Silverman show that follows at 9
 :00 a.m. to noon.Â Â \r\n\r\nMany topics including:Â  ??\r\nBill Krist
 ol\r\n\r\n\r\nAlso find out when Randy will guest host for other shows
 .\r\n\r\n\r\nWhat say you? 303-696-1971\r\nPodcasts atÂ https://omny.f
 m/shows/wake-up-with-randy-corporon\r\n\r\n\r\n\r\nRandy appreciates t
 he calls.\r\n\r\nDonâ€™t miss it!Â  Tune in to 710 KNUS or online at h
 ttp://www.710knus.com/ from 6 to 9 a.m. CallÂ  303-696-1071.\r\nÂ \r\n
 The podcasts for the program should be found on the 710 KNUS podcasts 
 page. Â \r\n\r\nhttp://www.710knus.com/podcastlineup.aspx\r\n\r\n\r\nÂ
  \r\n Â \r\n\n\nFor more information visit http://arapahoeteaparty.nin
 g.com/events/radio-new-wake-up-with-randy-corporon-show-on-710-knus-14
DTSTART:20180113T130000Z
DTEND:20180113T160000Z
CATEGORIES:"radio show"
LOCATION:\"Radio AM 710 KNUS\"
WEBSITE:http://www.710knus.com/
URL:http://www.710knus.com/
CONTACT:
ORGANIZER:Randy Corporon [posted by W. Branstetter]
ATTACH;FMTTYPE="image/jpeg":
ATTENDEE;ROLE=REQ-PARTICIPANT;PARTSTAT=ACCEPTED;RSVP=TRUE;CN="W. Brans
 tetter":http://arapahoeteaparty.ning.com/profile/WBranstetter
END:VEVENT
END:VCALENDAR
