BEGIN:VCALENDAR
PRODID:NingEventWidget-v1
VERSION:2.0
METHOD:PUBLISH
BEGIN:VEVENT
UID:3186561:Event:64467
DTSTAMP:20210313T184204Z
SUMMARY:Radio:  New \"Wake Up with Randy Corporon Show\" on 710 KNUS
DESCRIPTION:Be sure to tune in for the \"Wake Up with Randy Corporon\"
  radio show now on 710 KNUS on Saturday mornings 6:00 to 9:00 a.m.  C
 ould be the warm up act for the Craig Silverman show that follows at 9
 :00 a.m. to noon.  \r\n\r\nMany topics including:\r\n\r\nAuthor, Jer
 ome Corsi\r\n\r\nState Representative, Lori Saine\r\n\r\nAlso find out
  when Randy will guest host for other shows.\r\n\r\n\r\nWhat say you? 
 303-696-1971\r\nPodcasts at https://omny.fm/shows/wake-up-with-randy-
 corporon\r\n\r\n\r\n\r\nRandy appreciates the calls.\r\n\r\nDon’t mi
 ss it!  Tune in to 710 KNUS or online at http://www.710knus.com/ from
  6 to 9 a.m. Call  303-696-1071.\r\n \r\nThe podcasts for the progra
 m should be found on the 710 KNUS podcasts page.  \r\n\r\nhttp://www.
 710knus.com/podcastlineup.aspx\r\n\r\n\r\n \r\n  \r\n\n\nFor more in
 formation visit http://arapahoeteaparty.ning.com/events/radio-new-wake
 -up-with-randy-corporon-show-on-710-knus-11
DTSTART:20171216T130000Z
DTEND:20171216T160000Z
CATEGORIES:"radio show"
LOCATION:\"Radio AM 710 KNUS\"
WEBSITE:http://www.710knus.com/
URL:http://www.710knus.com/
CONTACT:
ORGANIZER:Randy Corporon [posted by W. Branstetter]
ATTACH;FMTTYPE="image/jpeg":
ATTENDEE;ROLE=REQ-PARTICIPANT;PARTSTAT=ACCEPTED;RSVP=TRUE;CN="W. Brans
 tetter":http://arapahoeteaparty.ning.com/profile/WBranstetter
END:VEVENT
END:VCALENDAR
