BEGIN:VCALENDAR
PRODID:NingEventWidget-v1
VERSION:2.0
METHOD:PUBLISH
BEGIN:VEVENT
UID:3186561:Event:62578
DTSTAMP:20210313T180001Z
SUMMARY:Radio:  New \"Wake Up with Randy Corporon Show\" on 710 KNUS
DESCRIPTION:Be sure to tune in for the reconstituted \"Wake Up with Ra
 ndy Corporon\" radio show new on 710 KNUS on Saturday mornings 6:00 to
  9:00 a.m., warm up act for the Craig Silverman show that follows at 9
 :00 a.m. to noon.  Guest host Kristina Cook will be in for Randy whil
 e he is out of town.\r\n\r\nKris will be joined by Colorado's RNC Nat
 ional Committeeman George Leing to discuss our party from a national l
 evel, and by George Athanasopoulos to discuss the vote that will be ta
 ken at the Colorado GOP Central Committee Meeting on September 23 ab
 out whether or not to opt out of the primary next year - an issue that
  is emblematic of the deep division among Colorado Republicans. \r\n\
 r\nDon’t miss it!  Tune in to 710 KNUS or online at http://www.710k
 nus.com/ from 6 to 9 a.m. Call  303-696-1071.\r\n \r\nThe podcasts f
 or the program should be found on the 710 KNUS podcasts page.  \r\n\r
 \nhttp://www.710knus.com/podcastlineup.aspx\r\n\r\n\r\n \r\n  \r\n\n
 \nFor more information visit http://arapahoeteaparty.ning.com/events/r
 adio-new-wake-up-with-randy-corporon-show-on-710-knus-1
DTSTART:20170916T120000Z
DTEND:20170916T150000Z
CATEGORIES:"radio show"
LOCATION:\"Radio AM 710 KNUS\"
WEBSITE:http://www.710knus.com/
URL:http://www.710knus.com/
CONTACT:
ORGANIZER:Randy Corporon [posted by W. Branstetter]
ATTACH;FMTTYPE="image/jpeg":
ATTENDEE;ROLE=REQ-PARTICIPANT;PARTSTAT=ACCEPTED;RSVP=TRUE;CN="W. Brans
 tetter":http://arapahoeteaparty.ning.com/profile/WBranstetter
END:VEVENT
END:VCALENDAR
