BEGIN:VCALENDAR
PRODID:NingEventWidget-v1
VERSION:2.0
METHOD:PUBLISH
BEGIN:VEVENT
UID:3186561:Event:57362
DTSTAMP:20210313T180417Z
SUMMARY:Radio:  New Time Slot (Drive Time) for Kelley & Kafer on 710 K
 NUS with guest Dr. Ben Carson
DESCRIPTION:Starting Monday, April 4, 2016, the Kelley & Kafer radio s
 how on 710 KNUS moves to their new drive time slot at 4:00-7:00 p.m. M
 T Monday through Friday.\n\nSure hope they keep the segment called \"T
 hinker Thursday\"--maybe make it the full three hours?\n\nDon’t miss
  it!  Tune in to 710 KNUS or online at http://www.710knus.com/ for K
 elley & Kafer from 4 to 7 p.m. Call  303-696-1071.\n \nNOTE:  The K
 elley & Kafer program moves to the new time slot of 4 to 7 p.m. starti
 ng April 4, 2016.\n\nThe podcasts for the program can be found on the 
 710 KNUS podcasts page.  \n\nhttp://www.710knus.com/podcastlineup.asp
 x\n\n\n \n  \n\n\nFor more information visit http://arapahoeteaparty
 .ning.com/events/radio-new-time-slot-drive-time-for-kelley-kafer-on-71
 0-knus-with-
DTSTART:20160406T220000Z
DTEND:20160407T010000Z
CATEGORIES:"radio show"
LOCATION:\"Radio  AM 710 KNUS\"
WEBSITE:http://www.710knus.com/
URL:http://www.710knus.com/
CONTACT:
ORGANIZER:[posted by W. Branstetter]
ATTACH;FMTTYPE="image/jpeg":
ATTENDEE;ROLE=REQ-PARTICIPANT;PARTSTAT=ACCEPTED;RSVP=TRUE;CN="W. Brans
 tetter":http://arapahoeteaparty.ning.com/profile/WBranstetter
END:VEVENT
END:VCALENDAR
