BEGIN:VCALENDAR
PRODID:NingEventWidget-v1
VERSION:2.0
METHOD:PUBLISH
BEGIN:VEVENT
UID:3186561:Event:48217
DTSTAMP:20210313T181859Z
SUMMARY:Radio:  Mike Rosen on KOA 850 with guest Randy Corporon
DESCRIPTION:Mike Rosen, radio host on KOA 850, has invited Randy Corpo
 ron, chairman of the Arapahoe County Tea Party, for a discussion of th
 e differences between the Republican Party and liberty activists.  Li
 sten in at 10:00 a.m. for the discussion.\n \nRandy's complete messag
 e for this event is available on the Facebook event announcement at:ht
 tps://www.facebook.com/events/1443463685874012/?ref=3&ref_newsfeed_sto
 ry_type=regular\n \nSince I am not sure how long the show will run, I
  have estimated an hour.  If you miss the program check for podcasts 
 at:\n \nhttp://www.850koa.com/main.html\n \n \n\nFor more informati
 on visit http://arapahoeteaparty.ning.com/events/radio-mike-rosen-on-k
 oa-850-with-guest-randy-corporon
DTSTART:20131203T170000Z
DTEND:20131203T180000Z
CATEGORIES:radio
LOCATION:KOA 850 Radio
WEBSITE:http://www.850koa.com/main.html
URL:http://www.850koa.com/main.html
CONTACT:
ORGANIZER:posted by W. Branstetter
ATTACH;FMTTYPE="image/jpeg":
ATTENDEE;ROLE=REQ-PARTICIPANT;PARTSTAT=ACCEPTED;RSVP=TRUE;CN="Randy B 
 Corporon":http://arapahoeteaparty.ning.com/profile/RandyBCorporon
ATTENDEE;ROLE=REQ-PARTICIPANT;PARTSTAT=ACCEPTED;RSVP=TRUE;CN="W. Brans
 tetter":http://arapahoeteaparty.ning.com/profile/WBranstetter
END:VEVENT
END:VCALENDAR
