BEGIN:VCALENDAR
PRODID:NingEventWidget-v1
VERSION:2.0
METHOD:PUBLISH
BEGIN:VEVENT
UID:3186561:Event:51975
DTSTAMP:20210313T173331Z
SUMMARY:Radio KLZ 560 \"Rush to Reason\":  Subject \"NO on 68\"
DESCRIPTION:Radio host John Rush on \"Rush to Reason\" on KLZ 560 will
  talk with Michelle Ames on the subject of \"NO on 68\" today 2:00-3:0
 0 p.m.\n\nThe statewide ballot issue, if approved, would add \"Amendme
 nt 68\" to the Colorado Constitution.  The amendment would allow the 
 owners of the horse racetrack in Arapahoe County to expand their opera
 tions and include casino gambling operations and allow for the creatio
 n of two additional racetracks in Pueblo and Mesa counties and develop
 ment.\n\nTune in for more information or connect with the podcast from
  the show.\n\nTuesday, September 9, 2014 at 2:00 to 3:00 p.m.\n\"Rush
  to Reason\" with John Reason, weekdays\n KLZ 560 AM radio \nhttp://
 www.560thesource.com/\n\nPodcasts:  http://www.rushtoreason.com/podca
 sts.html\n\nFacebook page for \"Rush to Reason\":\nhttps://www.faceboo
 k.com/rushtoreason\n\nNote that Channel 9 News in Denver has done a re
 view of advertisements pro and con Amendment 68:\n\nCon:  http://www.
 9news.com/story/news/politics/truth-tests/2014/09/08/truth-test-rhode-
 island-meddling-in-colorado/15310757/\n\nPro:  http://www.9news.com/s
 tory/news/politics/truth-tests/2014/08/26/truth-test-selling-voters-on
 -casinos-for-k-12/14654531/%20\n\nhttp://yesforbetterschools.com/tv-ad
 s/\n\nNote that this subject may be one discussed at the Arapahoe Tea 
 Party meeting September 9, 2014.\n\n\n\n\nFor more information visit h
 ttp://arapahoeteaparty.ning.com/events/radio-klz-560-rush-to-reason-su
 bject-no-on-68
DTSTART:20140909T200000Z
DTEND:20140909T210000Z
CATEGORIES:"radio show"
LOCATION:\"KLZ 560 AM the source radio\"
WEBSITE:http://www.560thesource.com/
URL:http://www.560thesource.com/
CONTACT:
ORGANIZER:John Rush (radio host) [posted by W. Branstetter]
ATTACH;FMTTYPE="image/jpeg":
ATTENDEE;ROLE=REQ-PARTICIPANT;PARTSTAT=ACCEPTED;RSVP=TRUE;CN="W. Brans
 tetter":http://arapahoeteaparty.ning.com/profile/WBranstetter
END:VEVENT
END:VCALENDAR
