BEGIN:VCALENDAR
PRODID:NingEventWidget-v1
VERSION:2.0
METHOD:PUBLISH
BEGIN:VEVENT
UID:3186561:Event:52045
DTSTAMP:20210313T181742Z
SUMMARY:Radio KLZ 560 \"Rush to Reason\"--2-Hour Show Begins
DESCRIPTION:KLZ 560 and John Rush have had a successful 1-hour weekday
  show for a few months and have decided to add a second hour.  Tune i
 n today for the extended program of \"Rush to Reason.\"Listen via radi
 o or on-line:\n\nhttp://www.560thesource.com/\n\nhttps://www.facebook.
 com/rushtoreason\n\nI have enjoyed the one-hour program where John sta
 ys on one topic or with one guest for the whole hour.\n\nAlso note tha
 t John Rush has had a Saturday morning auto show and he talks all thin
 gs autos and mechanical that can be informative and helpful.  The sho
 w is also on KLZ 560.\n\n\nFor more information visit http://arapahoet
 eaparty.ning.com/events/radio-klz-560-rush-to-reason-2-hour-show-begin
 s
DTSTART:20141006T200000Z
DTEND:20141006T220000Z
CATEGORIES:"radio show"
LOCATION:\"KLZ 560 AM the source radio\"
WEBSITE:http://www.560thesource.com/
URL:http://www.560thesource.com/
CONTACT:
ORGANIZER:[posted by W. Branstetter]
ATTACH;FMTTYPE="image/jpeg":
ATTENDEE;ROLE=REQ-PARTICIPANT;PARTSTAT=ACCEPTED;RSVP=TRUE;CN="W. Brans
 tetter":http://arapahoeteaparty.ning.com/profile/WBranstetter
END:VEVENT
END:VCALENDAR
