BEGIN:VCALENDAR
PRODID:NingEventWidget-v1
VERSION:2.0
METHOD:PUBLISH
BEGIN:VEVENT
UID:3186561:Event:55962
DTSTAMP:20210313T175140Z
SUMMARY:Radio:  Kelly & Kafer Show on 710 KNUS with Rob Natelson on fo
 r \"Thinker Thursday\"
DESCRIPTION:The Kelly & Kafer Show on 710 KNUS will have professor Rob
  Natelson on for \"Thinker Thursday\" so tune in for that segment Janu
 ary 7, 2016, Thursday 1:00-4:00 p.m. MT.  Be sure to tune in or check
  out the podcasts later.\n\nCheck out Rob Natelson's book, I think thi
 s is the latest version:\nhttp://www.amazon.com/Original-Constitution-
 What-Actually-Meant/dp/1502933624\n\nor read his articles posted under
  \"Constitution\" on the Independence Institute web site at:\n\nhttp:/
 /www.i2i.org/\n\nDon’t miss it! Tune in to 710 KNUS or online at htt
 p://www.710knus.com/. Call  303-696-1071. \n\nPodcasts for the progr
 am can be found at the web pages of 710 KNUS:  http://www.710knus.com/
 \n\n\n\nFor more information visit http://arapahoeteaparty.ning.com/ev
 ents/radio-kelly-kafer-show-on-710-knus-with-rob-natelson-on-for-think
DTSTART:20160107T200000Z
DTEND:20160107T230000Z
CATEGORIES:"radio show"
LOCATION:\"Radio  AM 710 KNUS\"
WEBSITE:http://www.710knus.com/
URL:http://www.710knus.com/
CONTACT:
ORGANIZER:Steve Kelly, radio host [posted by W. Branstetter]
ATTACH;FMTTYPE="image/jpeg":
ATTENDEE;ROLE=REQ-PARTICIPANT;PARTSTAT=ACCEPTED;RSVP=TRUE;CN="W. Brans
 tetter":http://arapahoeteaparty.ning.com/profile/WBranstetter
END:VEVENT
END:VCALENDAR
