BEGIN:VCALENDAR
PRODID:NingEventWidget-v1
VERSION:2.0
METHOD:PUBLISH
BEGIN:VEVENT
UID:3186561:Event:58906
DTSTAMP:20210313T183222Z
SUMMARY:Radio--\"Kelley & Kafer\" show:  \"Thinker Thursday\" with Rob
  Natelson at 4:00 p.m.
DESCRIPTION:\"Thinker Thursday\" is a one-hour segment on the daily \"
 Kelley & Kafer Show\" (4-7 p.m.) on 710 KNUS.  Rob Natelson, Constitu
 tion law specialist, answers questions about legal rulings and related
  issues.  Starts at 4:00 p.m.  His written articles and other materi
 als are posted at:\n\nhttps://www.i2i.org/constitution/\n\nDon’t mis
 s it!  Tune in to 710 KNUS or online at http://www.710knus.com/ from 
 4 to 7 p.m. Call  303-696-1071.\n \nThe podcasts for the program can
  be found on the 710 KNUS podcasts page. \n\nhttp://www.710knus.com/p
 odcastlineup.aspx\n\n\n \n  \n\n\nFor more information visit http://
 arapahoeteaparty.ning.com/events/radio-kelley-kafer-show-thinker-thurs
 day-with-rob-natelson-at-6-0
DTSTART:20160804T220000Z
DTEND:20160805T010000Z
CATEGORIES:"radio show"
LOCATION:\"Radio  AM 710 KNUS\"
WEBSITE:http://www.710knus.com/
URL:http://www.710knus.com/
CONTACT:
ORGANIZER:Kelley & Kafer Show [posted by W. Branstetter]
ATTACH;FMTTYPE="image/jpeg":
ATTENDEE;ROLE=REQ-PARTICIPANT;PARTSTAT=ACCEPTED;RSVP=TRUE;CN="W. Brans
 tetter":http://arapahoeteaparty.ning.com/profile/WBranstetter
END:VEVENT
END:VCALENDAR
