BEGIN:VCALENDAR
PRODID:NingEventWidget-v1
VERSION:2.0
METHOD:PUBLISH
BEGIN:VEVENT
UID:3186561:Event:58844
DTSTAMP:20210313T181249Z
SUMMARY:Radio:  \"Kelley and Kafer Show\", Randy Corporon in for Krist
 a Kafer
DESCRIPTION:Be sure to tune in for the \"Kelley and Kafer\" radio show
 .  Steve Kelley has invited Randy Corporon back for another show whil
 e Krista recuperates.  Deneen Borelli will be a guest on the show.\n\
 nIf you miss a program, find podcasts on 710 KNUS web site.\n \n\nDon
 ’t miss it!  Tune in to 710 KNUS or online at http://www.710knus.co
 m/ from 4:00 to 7:00 p.m. MT. Call  303-696-1071.\n \nThe podcasts f
 or the program can be found on the 710 KNUS podcasts page.  \n\nhttp:
 //www.710knus.com/podcastlineup.aspx\n\n\n \n  \n\n\nFor more inform
 ation visit http://arapahoeteaparty.ning.com/events/radio-kelley-and-k
 afer-show-randy-corporon-in-for-krista-kafer
DTSTART:20160830T220000Z
DTEND:20160831T010000Z
CATEGORIES:"radio show"
LOCATION:\"Radio  AM 710 KNUS\"
WEBSITE:http://www.710knus.com/
URL:http://www.710knus.com/
CONTACT:
ORGANIZER:Steve Kelley and Randy Corporon [posted by W. Branstetter]
ATTACH;FMTTYPE="image/jpeg":
ATTENDEE;ROLE=REQ-PARTICIPANT;PARTSTAT=ACCEPTED;RSVP=TRUE;CN="W. Brans
 tetter":http://arapahoeteaparty.ning.com/profile/WBranstetter
END:VEVENT
END:VCALENDAR
