BEGIN:VCALENDAR
PRODID:NingEventWidget-v1
VERSION:2.0
METHOD:PUBLISH
BEGIN:VEVENT
UID:3186561:Event:50094
DTSTAMP:20210313T171424Z
SUMMARY:Radio:  Joe America Show guest Steve Laffey for CD-4 Candidate
DESCRIPTION:Saturday morning radio program \"Joe America Show\" (9:00-
 10:00 a.m. MT) will have guest Steve Laffey, who is a candidate for th
 e U.S. Congress for Colorado's Congressional District 4 (CD-4).  \n\n
 Check out the on-line program at 9:00 a.m. Saturdays at:\n\nwww.milehi
 radio.com or on your smartphone or tablet by using the TuneIn Radio A
 pp and search for MileHiRadio\n\nhttp://iamjoeamerica.com/\n\nEvent an
 nouncement:\n\nhttps://www.facebook.com/events/636654299736683\n\n\n\n
 \n\nFor more information visit http://arapahoeteaparty.ning.com/events
 /radio-joe-america-show-guest-steve-laffey-for-cd-4-candidate
DTSTART:20140503T150000Z
DTEND:20140503T160000Z
CATEGORIES:"radio show"
LOCATION:\"your location\"
WEBSITE:http://www.milehiradio.com
URL:http://www.milehiradio.com
CONTACT:
ORGANIZER:\"Joe America\" [posted by W. Branstetter]
ATTACH;FMTTYPE="image/jpeg":
ATTENDEE;ROLE=REQ-PARTICIPANT;PARTSTAT=TENTATIVE;RSVP=TRUE;CN="W. Bran
 stetter":http://arapahoeteaparty.ning.com/profile/WBranstetter
END:VEVENT
END:VCALENDAR
