BEGIN:VCALENDAR
PRODID:NingEventWidget-v1
VERSION:2.0
METHOD:PUBLISH
BEGIN:VEVENT
UID:3186561:Event:50006
DTSTAMP:20210313T182104Z
SUMMARY:Radio:  Jimmy Sengenberger (in for Steve Kelley)
DESCRIPTION:Jimmy Sengenberger will be sitting in for Steve Kelley (1-
 4 p.m.).  Check it out on 710 KNUS radio or listen on-line.\n\nhttp:/
 /www.710knus.com/  The Steve Kelley page is at:\n\nhttp://www.710knus.
 com/kelleyandcompany/\n\nOf course tune in Saturday evenings for Jimmy
 's show.\n \n\"The Jimmy Sengenberger Show\" is a new program that s
 tarted on 710 KNUS radio Saturday, September 21, 2013, 5 p.m. to 8 p.m
 .\n\n \nJimmy Sengenberger had the \"Seng Center\" program on the Reg
 is University campus until he graduated a couple of years ago.  He ha
 s filled in for a variety of radio hosts all over the metro area and G
 reeley.\n \nDon’t miss it!  Tune in to 710 KNUS or online at http:
 //www.710knus.com/ from 5 to 8 PM. Call  303-696-1071.\n \nTune in a
 nd find out what the young man might have to say.  It is the weekend 
 so there may be Friday news you have not heard yet.\n \nThe podcasts 
 for the program can be found on the 710 KNUS podcasts page.  Look for
  Jimmy Sengenberger:\n\nhttp://www.710knus.com/podcastlineup.aspx\n\n\
 n \n  \n\n\nFor more information visit http://arapahoeteaparty.ning.
 com/events/radio-jimmy-sengenberger-in-for-steve-kelley
DTSTART:20140516T190000Z
DTEND:20140516T220000Z
CATEGORIES:"radio show"
LOCATION:\"Radio  AM 710 KNUS\"
WEBSITE:http://www.710knus.com/
URL:http://www.710knus.com/
CONTACT:
ORGANIZER:[posted by W. Branstetter]
ATTACH;FMTTYPE="image/jpeg":
ATTENDEE;ROLE=REQ-PARTICIPANT;PARTSTAT=ACCEPTED;RSVP=TRUE;CN="W. Brans
 tetter":http://arapahoeteaparty.ning.com/profile/WBranstetter
END:VEVENT
END:VCALENDAR
