BEGIN:VCALENDAR
PRODID:NingEventWidget-v1
VERSION:2.0
METHOD:PUBLISH
BEGIN:VEVENT
UID:3186561:Event:50001
DTSTAMP:20210313T173546Z
SUMMARY:Radio:  Jimmy Sengenberger (in for Steve Kelley) with guest  D
 r. Walter E. Williams
DESCRIPTION:Jimmy Sengenberger will be sitting in for Steve Kelley (1-
 4 p.m.) and will interview Dr. Walter E. Williams during the 2:00 p.m.
  hour.  Check it out on 710 KNUS radio or listen on-line.\n\nhttp://w
 ww.710knus.com/The Steve Kelley page is at:\n\nhttp://www.710knus.com/
 kelleyandcompany/\n\nOf course tune in Saturday evenings for Jimmy's s
 how.\n \n\"The Jimmy Sengenberger Show\" is a new program that start
 ed on 710 KNUS radio Saturday, September 21, 2013, 5 p.m. to 8 p.m.\n\
 n \nJimmy Sengenberger had the \"Seng Center\" program on the Regis U
 niversity campus until he graduated a couple of years ago.  He has fi
 lled in for a variety of radio hosts all over the metro area and Greel
 ey.\n \nDon’t miss it!  Tune in to 710 KNUS or online at http://ww
 w.710knus.com/ from 5 to 8 PM. Call  303-696-1071.\n \nTune in and f
 ind out what the young man might have to say.  It is the weekend so t
 here may be Friday news you have not heard yet.\n \nThe podcasts for 
 the program can be found on the 710 KNUS podcasts page.  Look for Jim
 my Sengenberger:\n\nhttp://www.710knus.com/podcastlineup.aspx\n\n\n \
 n  \n\n\nFor more information visit http://arapahoeteaparty.ning.com/
 events/radio-jimmy-sengenberger-in-for-steve-kelley-with-guest-dr-walt
 er
DTSTART:20140515T190000Z
DTEND:20140515T220000Z
CATEGORIES:"radio show"
LOCATION:\"Radio  AM 710 KNUS\"
WEBSITE:http://www.710knus.com/
URL:http://www.710knus.com/
CONTACT:
ORGANIZER:[posted by W. Branstetter]
ATTACH;FMTTYPE="image/jpeg":
ATTENDEE;ROLE=REQ-PARTICIPANT;PARTSTAT=TENTATIVE;RSVP=TRUE;CN="W. Bran
 stetter":http://arapahoeteaparty.ning.com/profile/WBranstetter
END:VEVENT
END:VCALENDAR
