BEGIN:VCALENDAR
PRODID:NingEventWidget-v1
VERSION:2.0
METHOD:PUBLISH
BEGIN:VEVENT
UID:3186561:Event:53881
DTSTAMP:20210313T173300Z
SUMMARY:Radio:  Freedom 560 with Ken Clark--guests Steve House and Der
 rick Wilburn
DESCRIPTION:Freedom 560 with Ken Clark airs on KLZ 560 AM radio weekda
 ys 1:00-3:00 p.m.  Guests on today's show include new Colorado GOP Ch
 air Steve House (at 2:00 p.m.) and Vice-Chair Derrick Wilburn (at 2:30
  p.m.).\n\nTune in on-line via:\n\nhttp://crawfordbroadcasting.com/klz
 /\n\nPodcasts can be found at along with the evening \"Grassroots Radi
 o Colorado\" programs:\n\nhttp://grrc.podomatic.com/\n\n\n\nFor more i
 nformation visit http://arapahoeteaparty.ning.com/events/radio-freedom
 -560-with-ken-clark-guests-steve-house-and-derrick-w
DTSTART:20150316T190000Z
DTEND:20150316T210000Z
CATEGORIES:radio
LOCATION:radio
WEBSITE:
URL:
CONTACT:
ORGANIZER:Ken Clark [posted by W. Branstetter]
ATTACH;FMTTYPE="image/jpeg":
ATTENDEE;ROLE=REQ-PARTICIPANT;PARTSTAT=ACCEPTED;RSVP=TRUE;CN="W. Brans
 tetter":http://arapahoeteaparty.ning.com/profile/WBranstetter
END:VEVENT
END:VCALENDAR
