BEGIN:VCALENDAR
PRODID:NingEventWidget-v1
VERSION:2.0
METHOD:PUBLISH
BEGIN:VEVENT
UID:3186561:Event:50199
DTSTAMP:20210313T182541Z
SUMMARY:Radio:  Debate of Gubernatorial Candidates--Beauprez, Gessler,
  Kopp
DESCRIPTION:There will be a debate of the candidates for Colorado gove
 rnor--well at least three of the four GOP candidates--Bob Beauprez, Sc
 ott Gessler, and Mike Kopp.  Note that Tom Tancredo and Governor Hick
 enlooper have declined.\n\nThe event is sponsored in a forum on the ca
 mpus of Colorado Christian University in Lakewood; however, the event 
 will be carried via radio on 710 KNUS.  The information for the Lakew
 ood location is available at:\n\nhttp://www.ccu.edu/2014governordebate
 /\n\nThe debate will be carried live on 710 KNUS radio at 7:00 p.m., T
 uesday, May 20, 2014.\n\nFor those who want to hear Tom Tancredo, who 
 is determined not to appear with the other candidates, tune in to 710 
 KNUS Saturday, May 17 at 5:30 p.m. for an interview that has been sche
 duled on the Jimmy Sengenberger radio show that airs 5-8 p.m. Saturday
 s.\n \nDon’t miss it!  Tune in to 710 KNUS or online at http://www
 .710knus.com/ from 5 to 8 PM. Call  303-696-1071.\n \nNote that Jimm
 y Sengenberger has interviewed all of the candidates for his program. 
  The podcasts for the program can be found on the 710 KNUS podcasts p
 age.  Look for Jimmy Sengenberger:\n\nhttp://www.710knus.com/podcastl
 ineup.aspx\n\n\n \n  \n\n\nFor more information visit http://arapaho
 eteaparty.ning.com/events/radio-debate-of-republican-gubernatorial-can
 didates-beauprez-gess
DTSTART:20140521T010000Z
DTEND:20140521T023000Z
CATEGORIES:"radio show"
LOCATION:\"Radio  AM 710 KNUS\"
WEBSITE:http://www.710knus.com/
URL:http://www.710knus.com/
CONTACT:
ORGANIZER:[posted by W. Branstetter]
ATTACH;FMTTYPE="image/jpeg":
ATTENDEE;ROLE=REQ-PARTICIPANT;PARTSTAT=ACCEPTED;RSVP=TRUE;CN="W. Brans
 tetter":http://arapahoeteaparty.ning.com/profile/WBranstetter
END:VEVENT
END:VCALENDAR
