BEGIN:VCALENDAR
PRODID:NingEventWidget-v1
VERSION:2.0
METHOD:PUBLISH
BEGIN:VEVENT
UID:3186561:Event:46849
DTSTAMP:20210313T172217Z
SUMMARY:Radio:  \"Black & White & Right\" with Derrick Wilburn
DESCRIPTION:One of Derrick Wilburn's projects is a one-hour radio prog
 ram from Colorado Springs 1460 KZNT AM.  Derrick and a friend called 
 the program \"Black & White & Right.\"\n \nProgram runs 7:00 to 8:00 
 a.m. on Saturday mornings.If you have good reception tune in or use th
 e internet link at:\n \nhttp://www.newstalk1460.com/\n \nThis Saturd
 ay in the segment about 7:30 a.m. Derrick plans to talk with someone f
 rom the Colorado Freedom Festival that will be Sunday August 11 aftern
 oon at Evergreen.\n \nhttp://www.coloradofreedomfestival.com/\n \n**
 ******************\n \nLearn more about other projects Derrick is inv
 olved with at:\n \nhttp://blackandconservative.com/\n \n \n\nFor mo
 re information visit http://arapahoeteaparty.ning.com/events/radio-bla
 ck-white-right-with-derrick-wilburn
DTSTART:20130810T130000Z
DTEND:20130810T140000Z
CATEGORIES:"radio show"
LOCATION:\"1460 KZNT\" \"Colorado Springs\"
WEBSITE:http://www.newstalk1460.com/
URL:http://www.newstalk1460.com/
CONTACT:
ORGANIZER:posted by W. Branstetter
ATTACH;FMTTYPE="image/jpeg":
ATTENDEE;ROLE=REQ-PARTICIPANT;PARTSTAT=TENTATIVE;RSVP=TRUE;CN="W. Bran
 stetter":http://arapahoeteaparty.ning.com/profile/WBranstetter
END:VEVENT
END:VCALENDAR
