BEGIN:VCALENDAR
PRODID:NingEventWidget-v1
VERSION:2.0
METHOD:PUBLISH
BEGIN:VEVENT
UID:3186561:Event:48629
DTSTAMP:20210313T174754Z
SUMMARY:Radio:  \"Black, White & Right Radio Show\" with Derrick Wilbu
 rn and Robert Blaha
DESCRIPTION:Tune in (probably on-line) Saturday mornings at 7:00 a.m. 
 (MT) for the Colorado Springs KZNT 1460 AM to \"Black, White & Right\"
  with Derrick Wilburn and Robert Blaha.\n\nFor more information and li
 nk to the on-line program:http://blackandconservative.com/bwr-radio-sh
 ow/\n\n\nIt is only an hour or two but Derrick and Robert have been do
 ing the program for a while.\n\n\n\nFor more information visit http://
 arapahoeteaparty.ning.com/events/radio-black-white-right-radio-show-wi
 th-derrick-wilburn-and-rober
DTSTART:20140118T140000Z
DTEND:20140118T160000Z
CATEGORIES:"radio show"
LOCATION:\"Radio KZNT 1460 AM\"
WEBSITE:http://blackandconservative.com/bwr-radio-show/
URL:http://blackandconservative.com/bwr-radio-show/
CONTACT:
ORGANIZER:Derrick Wilburn [posted by W. Branstetter]
ATTACH;FMTTYPE="image/jpeg":
ATTENDEE;ROLE=REQ-PARTICIPANT;PARTSTAT=TENTATIVE;RSVP=TRUE;CN="W. Bran
 stetter":http://arapahoeteaparty.ning.com/profile/WBranstetter
END:VEVENT
END:VCALENDAR
