BEGIN:VCALENDAR
PRODID:NingEventWidget-v1
VERSION:2.0
METHOD:PUBLISH
BEGIN:VEVENT
UID:3186561:Event:60676
DTSTAMP:20210313T172801Z
SUMMARY:Radio:  \"Backbone Radio Show\"
DESCRIPTION:Be sure to tune in for Matt Dunn's commentary.\n\nDon’t 
 miss it!  Tune in to 710 KNUS or online at http://www.710knus.com/ fr
 om 5 to 8 PM. Call  303-696-1071.\n \nThe podcasts for the program c
 an be found on the 710 KNUS podcasts page.  \n\nhttp://www.710knus.co
 m/podcastlineup.aspx\n\n\n \n  \n\n\nFor more information visit http
 ://arapahoeteaparty.ning.com/events/radio-backbone-radio-show
DTSTART:20170409T230000Z
DTEND:20170410T020000Z
CATEGORIES:"radio show"
LOCATION:\"Radio  AM 710 KNUS\"
WEBSITE:http://www.710knus.com/
URL:http://www.710knus.com/
CONTACT:
ORGANIZER:Jimmy Sengenberger [posted by W. Branstetter]
ATTACH;FMTTYPE="image/jpeg":
ATTENDEE;ROLE=REQ-PARTICIPANT;PARTSTAT=ACCEPTED;RSVP=TRUE;CN="W. Brans
 tetter":http://arapahoeteaparty.ning.com/profile/WBranstetter
END:VEVENT
END:VCALENDAR
