BEGIN:VCALENDAR
PRODID:NingEventWidget-v1
VERSION:2.0
METHOD:PUBLISH
BEGIN:VEVENT
UID:3186561:Event:55872
DTSTAMP:20210313T181632Z
SUMMARY:Radio:  Amy Oliver back as guest host for Stacy Petty Show on 
 1310 KFKA Greeley
DESCRIPTION:Amy Oliver will be filling in for Stacy Petty Show on 1310
  KFKA Greeley December 29 and December 30 from 9:00 a.m. to 11:00 a.m.
  MT.  \n\nThere may be lots to catch up on for the energy and environ
 ment topics or perhaps Amy will range into topics for the news or seas
 on.\n\nhttp://1310kfka.com/\n\n\n\n\nFor more information visit http:/
 /arapahoeteaparty.ning.com/events/radio-amy-oliver-back-as-guest-host-
 for-stacy-petty-show-on-1310-
DTSTART:20151229T160000Z
DTEND:20151229T180000Z
CATEGORIES:radio
LOCATION:\"1310 KFKA\"
WEBSITE:http://1310kfka.com/
URL:http://1310kfka.com/
CONTACT:
ORGANIZER:Stacy Petty [posted by W. Branstetter]
ATTACH;FMTTYPE="image/jpeg":
ATTENDEE;ROLE=REQ-PARTICIPANT;PARTSTAT=ACCEPTED;RSVP=TRUE;CN="W. Brans
 tetter":http://arapahoeteaparty.ning.com/profile/WBranstetter
END:VEVENT
END:VCALENDAR
