BEGIN:VCALENDAR
PRODID:NingEventWidget-v1
VERSION:2.0
METHOD:PUBLISH
BEGIN:VEVENT
UID:3186561:Event:28565
DTSTAMP:20210313T181540Z
SUMMARY:R Block Party South meeting:  \"Take A Look Forward\"
DESCRIPTION:R Block Party South will be holding their monthly meeting
  in a new location, within walking distance of Merle's where the group
  goes for after meeting socializing.  So, be sure to note the change 
 of meeting location.\n \nhttp://campaign.r20.constantcontact.com/rend
 er?llr=g7a5z8dab&v=001xWuk4iGwEaIigKNpTMfknIpALEPcoEFvH3dbjomY8tu-io32
 yXF2k9Xn77EoCx7YQHRY0LHjAWRsJI9JYrgKVzoSrpyH_LnORRlDB6iH6UwR7Uih0n3o4v
 lwXC19BcBVObRY15cX8DeSzWYCSEgDIw%3D%3D\n \nR Block Party will be look
 ing forward to the candidates and campaigns in the next year.  If you
  are looking for ways to get involved for the coming months you might 
 want to attend this meeting.\n \nTyler Houlton, president of Compass
  Colorado will be at the meeting to talk about this group. \n \nhttp
 ://compasscolorado.org/\nhttp://www.kdvr.com/news/politics/kdvr-new-tv
 -ad-bashes-prop-103-and-sen-evie-hudak-20111020,0,3278654.story\n \nL
 ocation:\nhttp://www.mainstreetlittleton.com/\n \nMap:\nhttp://maps.g
 oogle.com/maps?jsid=3&hl=en&um=1&ie=UTF-8&q=Main+Street&fb=1&cid=0,0,7
 488990717269945318&near=Littleton,+CO&sa=X&ei=eK2lTqb7OezXiALyubg1&ved
 =0CAMQkwMwAw\n \nJoin the group afterwards at Merle's when they recon
 vene for social time.  [intersection of Curtice St. and Main St.]\n 
 \n\nFor more information visit http://arapahoeteaparty.ning.com/events
 /r-block-party-south-meeting-take-a-look-forward
DTSTART:20111028T003000Z
DTEND:20111028T030000Z
CATEGORIES:meeting
LOCATION:The Main Street Center
WEBSITE:
URL:
CONTACT:RSVP to RBlockParty@comcast.net
ORGANIZER:posted by W. Branstetter
ATTACH;FMTTYPE="image/jpeg":
ATTENDEE;ROLE=REQ-PARTICIPANT;PARTSTAT=ACCEPTED;RSVP=TRUE;CN=Ben:http:
 //arapahoeteaparty.ning.com/profile/Ben
ATTENDEE;ROLE=REQ-PARTICIPANT;PARTSTAT=ACCEPTED;RSVP=TRUE;CN="W. Brans
 tetter":http://arapahoeteaparty.ning.com/profile/WBranstetter
ATTENDEE;ROLE=REQ-PARTICIPANT;PARTSTAT=TENTATIVE;RSVP=TRUE;CN="Jean Al
 len":http://arapahoeteaparty.ning.com/profile/JeanAllen
END:VEVENT
END:VCALENDAR
