BEGIN:VCALENDAR
PRODID:NingEventWidget-v1
VERSION:2.0
METHOD:PUBLISH
BEGIN:VEVENT
UID:3186561:Event:34882
DTSTAMP:20210313T172945Z
SUMMARY:R Block Party South
DESCRIPTION:The R Block Party meetings provide a venue for a variety o
 f candidates to introduce themselves.  This is a good opportunity to 
 meet some of the people and learn issues.  Note that there are other 
 events posted on the following link:\n \nhttp://campaign.r20.constant
 contact.com/render?llr=g7a5z8dab&v=001JO9rJ3gjxX7tbtkJBUclPe4IfA_8luce
 rwFm5TKmygUd2tvkFlfhPc_Tel3scWQlA8rMhYLQ4IbN5QLCT4clTrWrpP2fIRBl1zOZr7
 tt5UwyylusrND5uq4w77Y1MO0-IWNrT1GuXfV84Dyvdl5t-Q%3D%3D\n  \nThe libr
 ary closes at 9:00 p.m. and folks adjourn to Merles for socializing.\
 n \nMerles\n2609 West Main Street\nLittleton, Colorado\n \nCheck R B
 lock Party on Facebook.\n \nBemis Library at\n http://maps.google.co
 m/maps/ms?source=s_q&hl=en&geocode=&ie=UTF8&msa=0&msid=103108408354796
 881184.00045a3f56ef0cdbf270a&ll=39.607738,-105.003848&spn=0.025426,0.0
 28968&z=15\n\nFor more information visit http://arapahoeteaparty.ning.
 com/events/r-block-party-south-1
DTSTART:20120330T003000Z
DTEND:20120330T023000Z
CATEGORIES:meeting, "candidate forum"
LOCATION:Bemis Library
WEBSITE:
URL:
CONTACT:
ORGANIZER:posted by W. Branstetter
ATTACH;FMTTYPE="image/jpeg":
ATTENDEE;ROLE=REQ-PARTICIPANT;PARTSTAT=ACCEPTED;RSVP=TRUE;CN="W. Brans
 tetter":http://arapahoeteaparty.ning.com/profile/WBranstetter
END:VEVENT
END:VCALENDAR
