BEGIN:VCALENDAR
PRODID:NingEventWidget-v1
VERSION:2.0
METHOD:PUBLISH
BEGIN:VEVENT
UID:3186561:Event:16162
DTSTAMP:20210313T181134Z
SUMMARY:R Block Party North:  \"Over the Fence--How to Talk Politics w
 ith Neighbors\"
DESCRIPTION:R Block Party has a dynamic guest speaker (Christine Burtt
 ) scheduled this month for only the R Block North meeting. \n \nOver
  the Fence--How to Talk Politics With Your Neighbors\nO'Meara Ford400 
 W. 104th Ave.\nNorthglenn, Colorado\n\n\nMonday, May 16, 2011, 6:30-9:
 30 p.m.\n \nLearn a proven technique for developing short, sweet, and
  compelling messages based on your audience -messages that they can re
 member and repeat to others.This is a rare opportunity to learn from t
 he best...if you are a candidate,helping with a campaign,a precinct le
 ader orANYONE with an interest in changing hearts & minds,DON'T MISS T
 HIS MEETING!stay tuned for info about our R Block South meeting....Joi
 n us after O'Meara closes at 9pm at:Applebee's100 W 104th Ave.Northgle
 nn, CO\n \nNote:  This event is recommended for condidates, voluntee
 rs, and grassroots leaders.  Christine Burtt is only scheduled for th
 e North meeting.  Since this meeting is in the north metro area, plea
 se post any interest for developing a carpool in the comments section.
 \n \n\nFor more information visit http://arapahoeteaparty.ning.com/ev
 ents/r-block-party-north-over-the
DTSTART:20110517T003000Z
DTEND:20110517T033000Z
CATEGORIES:meeting, training
LOCATION:O'Meara Ford
WEBSITE:
URL:
CONTACT:
ORGANIZER:posted by W. Branstetter
ATTACH;FMTTYPE="image/jpeg":
ATTENDEE;ROLE=REQ-PARTICIPANT;PARTSTAT=TENTATIVE;RSVP=TRUE;CN="W. Bran
 stetter":http://arapahoeteaparty.ning.com/profile/WBranstetter
END:VEVENT
END:VCALENDAR
