BEGIN:VCALENDAR
PRODID:NingEventWidget-v1
VERSION:2.0
METHOD:PUBLISH
BEGIN:VEVENT
UID:3186561:Event:42109
DTSTAMP:20210313T172943Z
SUMMARY:R Block Party Meeting:  Scott Gessler and Susan Kochevar
DESCRIPTION:R Block Party welcomes Secretary of State Scott Gessler fo
 r a discussion of the 2012 election and what is coming.Â \nÂ \nplus\nÂ
  \nSusan Kochevar from Colorado Small Business Rising on \"How to test
 ify at the state capitol:Â  what to expect and how to be effective.\"Â
  \nÂ \nhttps://www.facebook.com/groups/119318145860/permalink/10151471
 946750861/#!/events/353991294715135/\nÂ \nR Block Party offers a great
  opportunity to meet people in office or who might be thinking of bein
 g involved in many areas of the community.Â \nÂ \nArrive early (6:30 p
 .m.)Â to socialize before the meeting (7:00 p.m.).Â  The meeting wraps
  up at 8:45 p.m. and the library closesÂ promptly at 9:00 p.m.Â  Follo
 wing the meeting, many peopleÂ meet for drinks and late dinner at Merl
 e's.Â  Â \nÂ \n*****************\nÂ \nR Block Party meets the last Thu
 rsday of each month, typically at Bemis Library followed by socializin
 g at Merle's.Â \nÂ \n6:30-7:00pm, mingle\n7:00-8:45pm, program\nBemis 
 Library\n6014 S Datura St\nLittleton, CO 80120\n....followed by....\nM
 erle's\n2609 W Main St (corner Curtice & Main)\nLittleton, CO 80120\nÂ
  \nContact Lori or Nikki via:\nÂ RBlockParty@comcast.net\n303-777-3600
 \nÂ \nR Block Party isÂ on FacebookÂ \nÂ \n******************\nÂ \nTim
 e shown is for the library meeting.Â  After meeting drinks and late ni
 ght snacks are at Merle's.\nÂ \nMap for library:Â \nÂ http://www.littl
 etongov.org/index.aspx?page=590\n Â \n\nFor more information visit htt
 p://arapahoeteaparty.ning.com/events/r-block-party-meeting-scott-gessl
 er-and-susan-kochevar
DTSTART:20130301T013000Z
DTEND:20130301T034500Z
CATEGORIES:meeting
LOCATION:Bemis Library
WEBSITE:
URL:
CONTACT:303-777-3600 or RBlockParty@comcast.net
ORGANIZER:posted by W. Branstetter
ATTACH;FMTTYPE="image/jpeg":
ATTENDEE;ROLE=REQ-PARTICIPANT;PARTSTAT=ACCEPTED;RSVP=TRUE;CN="W. Brans
 tetter":http://arapahoeteaparty.ning.com/profile/WBranstetter
END:VEVENT
END:VCALENDAR
