BEGIN:VCALENDAR
PRODID:NingEventWidget-v1
VERSION:2.0
METHOD:PUBLISH
BEGIN:VEVENT
UID:3186561:Event:44492
DTSTAMP:20210313T174520Z
SUMMARY:R Block Party Meeting:  Author, Jeff Wright, on \"The Citizen'
 s Last Stand: Are you Ready?\"
DESCRIPTION:NOTE Change in location for the R Block Party meeting for 
 March 28 to Delvickios Incredible Italian Restaurant, 819 West Littlet
 on Blvd., Littleton CO.   \n \nR Block Party welcomes Jeff Wright, 
 author, on \"The Citizen's Last Stand: Are you Ready?\".  Jeff has an
  explanation how we arrived at this mess and how to extricate ourselve
 s.\n \nR Block Party offers a great opportunity to meet people involv
 ed in many areas of the community and discuss issues of importance to 
 Colorado. \n \nArrive early (6:30 p.m.) to socialize before the meet
 ing (7:00 p.m.).  The meeting wraps up about 8:30 p.m. and will head 
 to the bar across the room.\n \nTypically, the meetings are held at B
 emis Library however the library space has been reserved during tax se
 ason to help people in the community.  The meeting should be back at 
 its usual location next month.\n \n*****************\n\nMap for Delvi
 ckios Incredible Italian:\n http://www.yelp.com/map/delvickios-little
 ton\n\n \n\nFor more information visit http://arapahoeteaparty.ning.c
 om/events/r-block-party-meeting-author-jeff-wright-on-the-citizen-s-la
 st-st
DTSTART:20130329T003000Z
DTEND:20130329T023000Z
CATEGORIES:meeting
LOCATION:Delvickios Incredible Italian Restaurant
WEBSITE:
URL:
CONTACT:303-777-3600 or RBlockParty@comcast.net
ORGANIZER:posted by W. Branstetter
ATTACH;FMTTYPE="image/jpeg":
ATTENDEE;ROLE=REQ-PARTICIPANT;PARTSTAT=ACCEPTED;RSVP=TRUE;CN="W. Brans
 tetter":http://arapahoeteaparty.ning.com/profile/WBranstetter
ATTENDEE;ROLE=REQ-PARTICIPANT;PARTSTAT=TENTATIVE;RSVP=TRUE;CN="Gary Bo
 lles":http://arapahoeteaparty.ning.com/profile/GaryBolles
END:VEVENT
END:VCALENDAR
