BEGIN:VCALENDAR
PRODID:NingEventWidget-v1
VERSION:2.0
METHOD:PUBLISH
BEGIN:VEVENT
UID:3186561:Event:29352
DTSTAMP:20210313T183333Z
SUMMARY:R Block Party--Countdown to 2012: The Power of One
DESCRIPTION:R Block Party both North and South groupsÂ will combine me
 eting time and location in November.Â  Watch for additional informatio
 n.Â  Preliminary information is:\nÂ \nCountdown to 2012:Â  The Power o
 f One\nÂ \nWhat does the political landscape look like in the coming y
 ear?Â \nWhat can you expect?\nWhere can you use your time most effecti
 vely?\nHow can you make an impact?\nAre you ready?\nÂ \nR Block Party 
 will lay out Election Year 2012 and hopes you will attend.Â  Please RS
 VP directly to rblockparty@comcast.net\nÂ \nEvent location:\nHotel VQ,
  14th Floor Skybox\n1975 Mile High Stadium Circle\nDenver, COÂ  80204Â
  \nÂ \nMap:\nhttp://g.co/maps/3b5u9\nÂ \nÂ \n\nFor more information vi
 sit http://arapahoeteaparty.ning.com/events/r-block-party-countdown-to
 -2012-the-power-of-one
DTSTART:20111111T013000Z
DTEND:20111111T040000Z
CATEGORIES:"monthly meeting"
LOCATION:Hotel VQ, 14th Floor Skybox
WEBSITE:
URL:
CONTACT:
ORGANIZER:posted by W. Branstetter
ATTACH;FMTTYPE="image/jpeg":
ATTENDEE;ROLE=REQ-PARTICIPANT;PARTSTAT=ACCEPTED;RSVP=TRUE;CN="Steven H
 aworth":http://arapahoeteaparty.ning.com/profile/StevenHaworth
ATTENDEE;ROLE=REQ-PARTICIPANT;PARTSTAT=ACCEPTED;RSVP=TRUE;CN="Randy B 
 Corporon":http://arapahoeteaparty.ning.com/profile/RandyBCorporon
ATTENDEE;ROLE=REQ-PARTICIPANT;PARTSTAT=ACCEPTED;RSVP=TRUE;CN="W. Brans
 tetter":http://arapahoeteaparty.ning.com/profile/WBranstetter
ATTENDEE;ROLE=REQ-PARTICIPANT;PARTSTAT=TENTATIVE;RSVP=TRUE;CN="Jeff Sa
 cco":http://arapahoeteaparty.ning.com/profile/JeffSacco
END:VEVENT
END:VCALENDAR
