BEGIN:VCALENDAR
PRODID:NingEventWidget-v1
VERSION:2.0
METHOD:PUBLISH
BEGIN:VEVENT
UID:3186561:Event:3168
DTSTAMP:20210313T182501Z
SUMMARY:Presentation on Campus
DESCRIPTION:There is a presentation at Metro campus called \"Capitalis
 m The Only Moral Social System\" by Craig Biddle. The event is sponsor
 ed by the Metro Campus Objectivists.\n\nFor more information visit htt
 p://arapahoeteaparty.ning.com/events/presentation-on-campus
DTSTART:20090922T010000Z
DTEND:20090922T030000Z
CATEGORIES:seminar
LOCATION:Tivoli Student Union
WEBSITE:
URL:
CONTACT:
ORGANIZER;CN="Chairman's Committee":http://arapahoeteaparty.ning.com/p
 rofile/chairmanscommittee
ATTACH;FMTTYPE="image/jpeg":
ATTENDEE;ROLE=REQ-PARTICIPANT;PARTSTAT=ACCEPTED;RSVP=TRUE;CN="Chairman
 's Committee":http://arapahoeteaparty.ning.com/profile/chairmanscommit
 tee
END:VEVENT
END:VCALENDAR
