BEGIN:VCALENDAR
PRODID:NingEventWidget-v1
VERSION:2.0
METHOD:PUBLISH
BEGIN:VEVENT
UID:3186561:Event:5829
DTSTAMP:20210313T171328Z
SUMMARY:Precinct Leader Get Out The Vote (GOTV) Training
DESCRIPTION:[Note: This event is sponsored by the South East Aurora Re
 publicans which regularly meets the 2nd and 4th Mondays of the month a
 t McCabe's Bistro.]\n\nPrecinct Leader Get Out The Vote (GOTV) Trainin
 g -- Monday Night Gathering\n\nI'd like to invite you to a training se
 ssion for any Arapahoe County precinct leader or anyone interested in 
 volunteering on Monday, September 27th at 6 p.m. at McCabe's Restauran
 t at the Southlands Mall. This will be to augment the training provide
 d at the Central Committee Meeting on September 25th.\n\nWe will be co
 vering the Get Out The Vote effort and how to distribute the sample ba
 llot, use the database, and conduct poll watching. Also, State Represe
 ntative David Balmer will speak briefly.\n\nPlease note....this is sli
 ghtly later than our normal Monday Night Gathering. We will start at 6
 pm with formal training starting closer to 6:30pm.\n\n****************
 *******************************\n\nThe above information was copied fr
 om a notice received by Wilma Branstetter, who attended one of their e
 vents a month or so ago. South East Aurora Republicans seems to be a s
 mall but vibrant group. They can be found on Facebook.\n\nWeb page fpr
  McCabe's, which is near the movie theater complex at Southlands Mall:
 \n\nhttp://www.mccabesbistroandpub.com/modules/wfchannel/\n\nmap at: h
 ttp://maps.google.com/maps?hl=en&ie=UTF8&cid=0,0,18243611201177757456&
 fb=1&hq=mccabes+southlands&hnear=Denver,+CO&gl=us&daddr=6100+S.+Main+S
 treet+%23104,+Aurora,+CO+80016&geocode=11369704588702073702,39.605828,
 -104.708944&ei=pQOcTOHwJY30swOn9anyCA&ved=0CBkQngIwAQ&z=16\n\n\n\nsour
 ce: http://www.facebook.com/event.php?eid=155292147828025\n\nFor more 
 information visit http://arapahoeteaparty.ning.com/events/precinct-lea
 der-get-out-the
DTSTART:20100928T000000Z
DTEND:20100928T010000Z
CATEGORIES:training
LOCATION:McCabe's Bistro at Southlands Mall (Aurora)
WEBSITE:http://www.mccabesbistroandpub.com/modules/wfchannel/
URL:http://www.mccabesbistroandpub.com/modules/wfchannel/
CONTACT:
ORGANIZER:South East Aurora Republicans [posted by W. Branstetter]
ATTACH;FMTTYPE="image/jpeg":
ATTENDEE;ROLE=REQ-PARTICIPANT;PARTSTAT=ACCEPTED;RSVP=TRUE;CN="W. Brans
 tetter":http://arapahoeteaparty.ning.com/profile/WBranstetter
END:VEVENT
END:VCALENDAR
