BEGIN:VCALENDAR
PRODID:NingEventWidget-v1
VERSION:2.0
METHOD:PUBLISH
BEGIN:VEVENT
UID:3186561:Event:4749
DTSTAMP:20210313T173027Z
SUMMARY:Post Party Summit
DESCRIPTION:Here is some info about the Post Party Summit taking place
  in Denver at the end of the month. This is an excellent time to learn
  more about how to be effective in the political process. It would be 
 especially beneficial for anyone running for office or working on a ca
 mpaign.\n\nThe cost is $80 for both days and is well worth it. Registe
 r here: http://ppsdenver-efbnen.eventbrite.com/\nThe Post Party Summit
 s: Organizing for a Free America, a collaboration by American Majority
 , The John Hancock Committee for the States, SmartGirl Politics and Re
 dState.com, will educate concerned citizens concerning the most effect
 ive tools and methods for bringing positive change to the communities 
 in the Denver area. Attendees will be encouraged to become engaged in 
 state and local government, as activists or even as elected officials.
  Skilled leaders with a wide range of experience will lead workshops t
 hat motivate and empower you to become effective community leaders who
  defend the principles of limited government, individual liberty and f
 ree markets.\n\nEvent Schedule\nFriday:\n\n5:30pm- Registration begins
 \n\n6:30pm- Dinner, with guest speaker Erick Erickson (RedState.com)\n
 \nSaturday:\n\n8:30- General Session: Understanding the System\n\n9:45
 am- Workshops offered:\n\nÂ· Building Effective Coalitions\n\nÂ· Creat
 ive Leadership\n\nÂ· Voter Registration 101: Registration Drives\n\n11
 :00am- Workshops offered:\n\nÂ· Patriots 2.0\n\nÂ· Running for Office 
 1\n\nÂ· Investigative Journalism 101\n\n12pm- Lunch\n\n1:10pm- Worksho
 ps offered:\n\nÂ· Hardwiring Precincts\n\nÂ· Running for Office 2\n\nÂ
 · Voter Registration 201: Recognizing and Preventing Voter Fraud\n\n2:
 25pm- Workshops offered:\n\nÂ· Blogs and Wikis\n\nÂ· TBA\n\nÂ· Investi
 gative Journalism 201\n\n3:40pm- Workshops offered:\n\nÂ· Online Image
  Management\n\nÂ· Fundraising 101\n\nÂ· TBA\n\nFor more information vi
 sit http://arapahoeteaparty.ning.com/events/post-party-summit-1
DTSTART:20100430T233000Z
DTEND:20100501T223000Z
CATEGORIES:workshop
LOCATION:Embassy Suite Denver Aurora
WEBSITE:
URL:
CONTACT:
ORGANIZER:Lesley Hollywood
ATTACH;FMTTYPE="image/jpeg":
ATTENDEE;ROLE=REQ-PARTICIPANT;PARTSTAT=ACCEPTED;RSVP=TRUE;CN="Chairman
 's Committee":http://arapahoeteaparty.ning.com/profile/chairmanscommit
 tee
END:VEVENT
END:VCALENDAR
