BEGIN:VCALENDAR
PRODID:NingEventWidget-v1
VERSION:2.0
METHOD:PUBLISH
BEGIN:VEVENT
UID:3186561:Event:40380
DTSTAMP:20210313T173357Z
SUMMARY:PBS (Channel 6) Candidate Debate:  Rep. Diana DeGette vs. Dann
 y Stroud
DESCRIPTION:Danny Stroud reports in his newsletter:\n \nDEBATE:\nThis
  next Friday is the debate you have all been hearing about.   Unfort
 unately,  there will be no studio audience.  It will be recorded and
  played the evening of the same day. \n\nRocky Mountain PBS Candidate
  Debate\n\"Colorado State of Mind\"\nOctober 19, 2012 at 7:30 PM\nChan
 nel 6 (Denver)\n\n\n\nDanny Stroud has been working hard on Rep. DeGet
 te's efforts in this district and would probably welcome your encourag
 ement and support.  Tune in and hear what they have to say.  This ma
 y just be a half hour program.  If someone knows please comment.\n\nh
 ttp://dannystroudforcolorado.com/\nhttp://doyouregretdegette.com/\n \
 n\nFor more information visit http://arapahoeteaparty.ning.com/events/
 pbs-channel-6-candidate-debate-rep-diana-degette-vs-danny-stroud
DTSTART:20121020T013000Z
DTEND:20121020T020000Z
CATEGORIES:debate
LOCATION:\"Colorado State of Mind\", Rocky Mountain PBS
WEBSITE:http://dannystroudforcolorado.com/
URL:http://dannystroudforcolorado.com/
CONTACT:
ORGANIZER:posted by W. Branstetter
ATTACH;FMTTYPE="image/jpeg":
ATTENDEE;ROLE=REQ-PARTICIPANT;PARTSTAT=ACCEPTED;RSVP=TRUE;CN="W. Brans
 tetter":http://arapahoeteaparty.ning.com/profile/WBranstetter
END:VEVENT
END:VCALENDAR
